BEGIN:VCALENDAR
VERSION:2.0
PRODID:-//Portail culturel de Saint-Martin-d&#039;Hères - ECPv6.0.8//NONSGML v1.0//EN
CALSCALE:GREGORIAN
METHOD:PUBLISH
X-ORIGINAL-URL:https://culture.saintmartindheres.fr
X-WR-CALDESC:évènements pour Portail culturel de Saint-Martin-d&#039;Hères
REFRESH-INTERVAL;VALUE=DURATION:PT1H
X-Robots-Tag:noindex
X-PUBLISHED-TTL:PT1H
BEGIN:VTIMEZONE
TZID:Europe/Paris
BEGIN:DAYLIGHT
TZOFFSETFROM:+0100
TZOFFSETTO:+0200
TZNAME:CEST
DTSTART:20240331T010000
END:DAYLIGHT
BEGIN:STANDARD
TZOFFSETFROM:+0200
TZOFFSETTO:+0100
TZNAME:CET
DTSTART:20241027T010000
END:STANDARD
BEGIN:DAYLIGHT
TZOFFSETFROM:+0100
TZOFFSETTO:+0200
TZNAME:CEST
DTSTART:20250330T010000
END:DAYLIGHT
BEGIN:STANDARD
TZOFFSETFROM:+0200
TZOFFSETTO:+0100
TZNAME:CET
DTSTART:20251026T010000
END:STANDARD
END:VTIMEZONE
BEGIN:VEVENT
DTSTART;VALUE=DATE:20241225
DTEND;VALUE=DATE:20250122
DTSTAMP:20260426T012546
CREATED:20241218T154144Z
LAST-MODIFIED:20241218T154144Z
UID:67785-1735084800-1737503999@culture.saintmartindheres.fr
SUMMARY:à l'Affiche de Mon Ciné
DESCRIPTION:Le programme de Mon Ciné du 25 DEC au 21 JANV est en ligne \nFEUILLETER LE PROGRAMME ICI
URL:https://culture.saintmartindheres.fr/agenda/a-laffiche-de-mon-cine-3-2-2-copy-2-2-2-2-2-2-2-2/
LOCATION:Mon Ciné\, 10 Avenue Ambroise Croizat\, Saint-Martin-d'Hères\, 38400
CATEGORIES:Cinéma,Sortir et pratiquer
ATTACH;FMTTYPE=image/jpeg:https://culture.saintmartindheres.fr/culture_sitep/wp-content/uploads/2024/12/Une_486.jpg
END:VEVENT
BEGIN:VEVENT
DTSTART;TZID=Europe/Paris:20250116T200000
DTEND;TZID=Europe/Paris:20250116T214000
DTSTAMP:20260426T012546
CREATED:20240625T085343Z
LAST-MODIFIED:20240625T085343Z
UID:62413-1737057600-1737063600@culture.saintmartindheres.fr
SUMMARY:[Théâtre] Si vous voulez bien passer à table ? Cie Le Chat du Désert > L’heure bleue
DESCRIPTION:Théâtre \nJEU. 16 JANV.   20h  L’heure bleue\nTarifs de 5€ à 17€ – Dès 10 ans – Durée 1h40 \nSi vous voulez bien passer à table ? – Cie Le Chat du Désert\nEt si les mondes du théâtre et de la cuisine étaient plus proches qu’on ne le pensait ? Prenez place à notre table\, venez vous délecter de cette exquise comédie culinaire ! \nEN SAVOIR +
URL:https://culture.saintmartindheres.fr/agenda/theatre-si-vous-voulez-bien-passer-a-table-cie-le-chat-du-desert-lheure-bleue/
LOCATION:L’heure bleue\, 2 Avenue Jean Vilar\, Saint Martin d'Hères\, ISERE\, 38400\, France
CATEGORIES:Sortir et pratiquer,Théâtre
ATTACH;FMTTYPE=image/jpeg:https://culture.saintmartindheres.fr/culture_sitep/wp-content/uploads/2024/06/SiVousVoulezBienPAsserATable©PascaleCholette_24-25-2.jpeg
END:VEVENT
BEGIN:VEVENT
DTSTART;VALUE=DATE:20250122
DTEND;VALUE=DATE:20250212
DTSTAMP:20260426T012546
CREATED:20250116T134530Z
LAST-MODIFIED:20250116T134530Z
UID:68406-1737504000-1739318399@culture.saintmartindheres.fr
SUMMARY:à l'Affiche de Mon Ciné
DESCRIPTION:Le programme de Mon Ciné du 22 JANV au 11 FEV est en ligne \nFEUILLETER LE PROGRAMME ICI
URL:https://culture.saintmartindheres.fr/agenda/a-laffiche-de-mon-cine-3-2-2-copy-2-2-2-2-2-2-2-2-2/
LOCATION:Mon Ciné\, 10 Avenue Ambroise Croizat\, Saint-Martin-d'Hères\, 38400
CATEGORIES:Cinéma,Sortir et pratiquer
ATTACH;FMTTYPE=image/jpeg:https://culture.saintmartindheres.fr/culture_sitep/wp-content/uploads/2025/01/Une_487.jpg
END:VEVENT
BEGIN:VEVENT
DTSTART;TZID=Europe/Paris:20250122T091500
DTEND;TZID=Europe/Paris:20250122T103000
DTSTAMP:20260426T012546
CREATED:20240625T114442Z
LAST-MODIFIED:20240625T114847Z
UID:62421-1737537300-1737541800@culture.saintmartindheres.fr
SUMMARY:[Musique] Stabat ma Terre – Cie Axolot > Espace culturel René Proby
DESCRIPTION:Musique  \nMERC. 22 JANV.  9h15 et 10h30\nEspace culturel René Proby\nTarif unique 5€ – De 3 mois à 3 ans – Durée 30 min \nStabat ma Terre – Compagnie Axolot\nMater\, ma Terre : une homophonie pour chanter le monde\, la puissance et la douceur du vivant aux oreilles des tout-petits. \nEN SAVOIR + \n 
URL:https://culture.saintmartindheres.fr/agenda/musique-stabat-ma-terre-cie-axolot-espace-culturel-rene-proby/
LOCATION:Espace culturel René Proby\, rue George Sand\, Saint-Martin-d'Hères\, ISERE\, 38400\, France
CATEGORIES:Musique,Sortir et pratiquer
ATTACH;FMTTYPE=image/jpeg:https://culture.saintmartindheres.fr/culture_sitep/wp-content/uploads/2024/06/StabatMaTerre_CieAxotolt©tika-photographie_24-25.jpg
END:VEVENT
BEGIN:VEVENT
DTSTART;TZID=Europe/Paris:20250122T203000
DTEND;TZID=Europe/Paris:20250122T220500
DTSTAMP:20260426T012546
CREATED:20240625T115451Z
LAST-MODIFIED:20240625T115451Z
UID:62424-1737577800-1737583500@culture.saintmartindheres.fr
SUMMARY:[Théatre] Terminator 2 Unplugged – Aurélien Arnaud > Espace culturel René Proby
DESCRIPTION:Théâtre  \nMERC. 22 JANV.  20h30\nEspace culturel René Proby\nDe 5€ à 17€- Dès 12 ans – Durée 1h35 \nTerminator 2 Unplugged – Aurélien Arnaud\nComment créer une expérience cinématographique sans musique enregistrée ni effets spéciaux\, sans décor ni costume ? \n➕ Autour du spectacle Sam. 25 janv. 17h30 à Mon Ciné\nProjection du film Terminator 2 : Le Jugement dernier de James Cameron \nEN SAVOIR + \n 
URL:https://culture.saintmartindheres.fr/agenda/theatre-terminator-2-unplugged-aurelien-arnaud-espace-culturel-rene-proby/
LOCATION:Espace culturel René Proby\, rue George Sand\, Saint-Martin-d'Hères\, ISERE\, 38400\, France
CATEGORIES:Sortir et pratiquer,Théâtre
ATTACH;FMTTYPE=image/jpeg:https://culture.saintmartindheres.fr/culture_sitep/wp-content/uploads/2024/06/Terminator2Unplugged©-Aurelien-Arnaud_24-25.jpg
END:VEVENT
BEGIN:VEVENT
DTSTART;TZID=Europe/Paris:20250129T190000
DTEND;TZID=Europe/Paris:20250129T195000
DTSTAMP:20260426T012546
CREATED:20240625T135901Z
LAST-MODIFIED:20240625T140028Z
UID:62430-1738177200-1738180200@culture.saintmartindheres.fr
SUMMARY:[Théâtre – Ciné-Concert] Walking the cow + Cavale – Cie des Mangeurs d’étoiles > L’heure bleue
DESCRIPTION:Théâtre – Ciné – Concert\nMERC. 29 JANV.   19h  L’heure bleue\nTarifs de 5€ à 12€ – Dès 8 ans – Durée 50 min 🚸 séance scolaire MERC. 29 JANV. 10h > dès le CE2 \nWalking the cow + Cavale – Cie des Mangeurs d’étoiles\nDans l’affolement de notre époque\, la compagnie des Mangeurs d’Étoiles sonde les pulsations du monde et scrute notre rapport à la vitesse et au temps. Un double ciné-concert qui emmène petits et grands\, l’air de rien\, sur les chemins de la philosophie. \nEN SAVOIR + \n 
URL:https://culture.saintmartindheres.fr/agenda/theatre-cine-concert-walking-the-cow-cavale-cie-des-mangeurs-detoiles-lheure-bleue/
LOCATION:L’heure bleue\, 2 Avenue Jean Vilar\, Saint Martin d'Hères\, ISERE\, 38400\, France
CATEGORIES:Cinéma,Concerts,Sortir et pratiquer,Théâtre
ATTACH;FMTTYPE=image/jpeg:https://culture.saintmartindheres.fr/culture_sitep/wp-content/uploads/2024/06/WalkingTheCow_3840x2160©PierreReynard02.jpg
END:VEVENT
END:VCALENDAR