BEGIN:VCALENDAR
VERSION:2.0
PRODID:-//Portail culturel de Saint-Martin-d&#039;Hères - ECPv6.0.8//NONSGML v1.0//EN
CALSCALE:GREGORIAN
METHOD:PUBLISH
X-WR-CALNAME:Portail culturel de Saint-Martin-d&#039;Hères
X-ORIGINAL-URL:https://culture.saintmartindheres.fr
X-WR-CALDESC:évènements pour Portail culturel de Saint-Martin-d&#039;Hères
REFRESH-INTERVAL;VALUE=DURATION:PT1H
X-Robots-Tag:noindex
X-PUBLISHED-TTL:PT1H
BEGIN:VTIMEZONE
TZID:Europe/Paris
BEGIN:DAYLIGHT
TZOFFSETFROM:+0100
TZOFFSETTO:+0200
TZNAME:CEST
DTSTART:20210328T010000
END:DAYLIGHT
BEGIN:STANDARD
TZOFFSETFROM:+0200
TZOFFSETTO:+0100
TZNAME:CET
DTSTART:20211031T010000
END:STANDARD
END:VTIMEZONE
BEGIN:VEVENT
DTSTART;VALUE=DATE:20210504
DTEND;VALUE=DATE:20210530
DTSTAMP:20260422T182029
CREATED:20210506T084619Z
LAST-MODIFIED:20210506T084622Z
UID:20848-1620086400-1622332799@culture.saintmartindheres.fr
SUMMARY:[Expo] IL Y A 150 ANS LA COMMUNE DE PARIS à la médiathèque R. Rolland
DESCRIPTION:à la médiathèque Espace Romain Rolland\ndu 4 au 29 mai 2021\n24 panneaux illustrés de dessins\, gravures et photographies d’époque\, une exposition encyclopédique sur le fond et dynamique sur la forme. Lire +
URL:https://culture.saintmartindheres.fr/agenda/expo-il-y-a-150-ans-la-commune-de-paris-a-la-mediatheque-r-rolland/
LOCATION:Médiathèque Espace Romain Rolland\, 5 avenue Romain Rolland\, Saint-Martin-d'Hères\, ISERE\, 38400\, France
CATEGORIES:Patrimoine,Sortir et pratiquer
ATTACH;FMTTYPE=image/png:https://culture.saintmartindheres.fr/culture_sitep/wp-content/uploads/2021/05/expo-150-ans-commune_RRolland.png
END:VEVENT
BEGIN:VEVENT
DTSTART;TZID=Europe/Paris:20210508T200000
DTEND;TZID=Europe/Paris:20210508T210000
DTSTAMP:20260422T182029
CREATED:20200626T081029Z
LAST-MODIFIED:20210217T084709Z
UID:15321-1620504000-1620507600@culture.saintmartindheres.fr
SUMMARY:[annulation] LES INATTENDUS\, TITRE PROVISOIRE – Jihad Darwiche\, Marc Nammour\, dès 12 ans
DESCRIPTION:ANNULATION – INFO Billetterie tel. 04 76 14 08 08\nSAM. 8 MAI 20h à L’heure bleue\nRécit\, conte et musique / Dès 12 ans / Durée 1h / Tarifs 19€ | 16€ | 12€ | 8€ \nLes Inattendus\, Titre provisoire\nJIHAD DARWICHE\, MARC NAMMOUR\nLIRE +
URL:https://culture.saintmartindheres.fr/agenda/smh-en-scene-les-inattendus-titre-provisoire-jihad-darwiche-marc-nammour-des-12-ans/
LOCATION:L’heure bleue\, 2 Avenue Jean Vilar\, Saint Martin d'Hères\, ISERE\, 38400\, France
CATEGORIES:Musique,Sortir et pratiquer,Théâtre
ATTACH;FMTTYPE=image/jpeg:https://culture.saintmartindheres.fr/culture_sitep/wp-content/uploads/2020/06/130x170_plaquette-HB_2020-2021_UNE.jpg
END:VEVENT
BEGIN:VEVENT
DTSTART;TZID=Europe/Paris:20210511T200000
DTEND;TZID=Europe/Paris:20210511T211500
DTSTAMP:20260422T182029
CREATED:20200626T082539Z
LAST-MODIFIED:20210504T120547Z
UID:15324-1620763200-1620767700@culture.saintmartindheres.fr
SUMMARY:[annulé] J’AURAI AIMÉ SAVOIR CE QUE ÇA FAIT D’ÊTRE LIBRE – Chloé Lacan\, dès 12 ans
DESCRIPTION:ANNULATION\nMAR. 11 MAI 20h à L’heure bleue\nRécit musical / Dès 12 ans / Durée 1h15 / Tarifs 19€ | 16€ | 12€ | 8€\nJ’AURAIS AIMÉ SAVOIR CE QUE ÇA FAIT D’ÊTRE LIBRE\nCHLOÉ LACAN\nLIRE +
URL:https://culture.saintmartindheres.fr/agenda/smh-en-scene-jaurai-aim%c2%90e-savoir-ce-que-ca-fait-detre-libre-chloe-lacan-des-12-ans/
LOCATION:L’heure bleue\, 2 Avenue Jean Vilar\, Saint Martin d'Hères\, ISERE\, 38400\, France
CATEGORIES:Musique,Sortir et pratiquer,Théâtre
ATTACH;FMTTYPE=image/jpeg:https://culture.saintmartindheres.fr/culture_sitep/wp-content/uploads/2020/06/130x170_plaquette-HB_2020-2021_UNE.jpg
END:VEVENT
BEGIN:VEVENT
DTSTART;VALUE=DATE:20210519
DTEND;VALUE=DATE:20210520
DTSTAMP:20260422T182029
CREATED:20210505T125115Z
LAST-MODIFIED:20210505T125118Z
UID:20826-1621382400-1621468799@culture.saintmartindheres.fr
SUMMARY:RÉOUVERTURE DE MON CINÉ ;-)
DESCRIPTION:RÉOUVERTURE DE MON CINÉ LE 19 MAI \nLe programme sera bientôt disponible !\nNous espérons que vous serez au RDV\, vous nous avez tellement manqué… Lire +
URL:https://culture.saintmartindheres.fr/agenda/reouverture-de-mon-cine-2/
LOCATION:Mon Ciné\, 10 Avenue Ambroise Croizat\, Saint-Martin-d'Hères\, 38400
CATEGORIES:Cinéma,Sortir et pratiquer
ATTACH;FMTTYPE=image/jpeg:https://culture.saintmartindheres.fr/culture_sitep/wp-content/uploads/2021/05/MON-CINE-2021.jpg
END:VEVENT
BEGIN:VEVENT
DTSTART;TZID=Europe/Paris:20210521T190000
DTEND;TZID=Europe/Paris:20210521T203000
DTSTAMP:20260422T182029
CREATED:20200626T082828Z
LAST-MODIFIED:20210511T073021Z
UID:15326-1621623600-1621629000@culture.saintmartindheres.fr
SUMMARY:[SMH en scène] DES FOURMIS DANS LES MAINS - Concert à 19h
DESCRIPTION:INFO//INFO//INFO//INFO//INFO//INFO//INFO//INFO//INFO//\nToute l’équipe Saint-Martin-d’Hères en scène et le groupe Les fourmis dans les mains sont prêts pour la réouverture. En attendant de connaître les protocoles et le nombre de places disponibles à la vente\, nous préférons suspendre la vente des billets. Surveillez le site ou notre page Facebook\, nous espérons avoir très vite une très bonne nouvelle à vous annoncer !\nNous avons hâte de vous retrouver le VEN. 21 MAI 19h à L’heure bleue\nMusique / Tarifs 19€ | 16€ | 12€ | 8€\nDes Fourmis dans les mains / CONCERT LIRE +
URL:https://culture.saintmartindheres.fr/agenda/smh-en-scene-des-fourmis-dans-les-mains/
LOCATION:L’heure bleue\, 2 Avenue Jean Vilar\, Saint Martin d'Hères\, ISERE\, 38400\, France
CATEGORIES:Concerts,Musique,Sortir et pratiquer
ATTACH;FMTTYPE=image/jpeg:https://culture.saintmartindheres.fr/culture_sitep/wp-content/uploads/2020/06/130x170_plaquette-HB_2020-2021_UNE.jpg
END:VEVENT
BEGIN:VEVENT
DTSTART;TZID=Europe/Paris:20210522T140000
DTEND;TZID=Europe/Paris:20210710T183000
DTSTAMP:20260422T182029
CREATED:20210112T132231Z
LAST-MODIFIED:20210527T100601Z
UID:19321-1621692000-1625941800@culture.saintmartindheres.fr
SUMMARY:[22 mai-10 juil] BLANC COMME NEIGE\, installation de François Germain à l'espace Vallès
DESCRIPTION:BLANC COMME NEIGE\, Installation de François GERMAIN\n\ndu samedi 22 mai au samedi 10 juillet à l’espace Vallès >>>>> François Germain aura le plaisir de vous accueillir dans l’exposition  les samedis  22 et 29 mai\, 12 juin\, 26 juin\, 3 et 10 juillet de 14h à 18h30 <<<<<<\nLe sculpteur François Germain présente une installation en textile jouant avec le volume de la galerie et dont le cœur est un flocon de neige   LIRE +\nEntrée libre\, des mesures sanitaires sont prises à la galerie pour vous accueillir dans les meilleures conditions. 
URL:https://culture.saintmartindheres.fr/agenda/a-lespace-valles-blanc-comme-neige-installation-de-francois-germain/
LOCATION:Espace Vallès\, 14 place de la République\, Saint-Martin-d'Hères\, ISERE\, 38400\, France
CATEGORIES:Art-Contemporain,Sortir et pratiquer
ATTACH;FMTTYPE=image/jpeg:https://culture.saintmartindheres.fr/culture_sitep/wp-content/uploads/2021/01/Mangrove_Givree_credit-Francois-Germain.jpg
END:VEVENT
BEGIN:VEVENT
DTSTART;TZID=Europe/Paris:20210527T190000
DTEND;TZID=Europe/Paris:20210527T210000
DTSTAMP:20260422T182029
CREATED:20210511T141206Z
LAST-MODIFIED:20210511T141326Z
UID:20999-1622142000-1622149200@culture.saintmartindheres.fr
SUMMARY:[VISIO] Conférence de Fabrice Nesta « Une oeuvre\, un lieu\, Art in situ »
DESCRIPTION:VISIO-Conférence de Fabrice Nesta « Une oeuvre\, un lieu\, Art in situ »le jeudi 27 mai à 19 h organisée par l’espace Vallès \nEN SAVOIR +
URL:https://culture.saintmartindheres.fr/agenda/visio-conference-de-fabrice-nesta-une-oeuvre-un-lieu-art-in-situ/
LOCATION:Espace Vallès\, 14 place de la République\, Saint-Martin-d'Hères\, ISERE\, 38400\, France
CATEGORIES:Art-Contemporain,Conférences,Sortir et pratiquer
ATTACH;FMTTYPE=image/jpeg:https://culture.saintmartindheres.fr/culture_sitep/wp-content/uploads/2018/08/valles.jpg
END:VEVENT
BEGIN:VEVENT
DTSTART;VALUE=DATE:20210528
DTEND;VALUE=DATE:20210705
DTSTAMP:20260422T182029
CREATED:20210409T091727Z
LAST-MODIFIED:20210507T110422Z
UID:20561-1622160000-1625443199@culture.saintmartindheres.fr
SUMMARY:STREET ART FEST GRENOBLE-ALPES 2021
DESCRIPTION:STREET ART FEST GRENOBLE-ALPES\ndu 28 mai au 4 juillet 2021\nLe Street Art est de nature généreuse\, et cette générosité se partage et se propage\, car elle offre une manière de regarder la ville différemment et souvent bienvenue dès que les artistes ont le temps et l’autorisation de montrer leur savoir-faire. \nCe rendez-vous culturel est l’occasion de découvrir différentes facettes de cet élan planétaire que le Street Art Fest a contribué à mettre en lumière et qui fait aujourd’hui partie des plus grands mouvements artistiques de tous les temps. Du graffiti jusqu’aux nouvelles technologies\, cet évènement tout public a une intention simple : faire un état des lieux du street art actuel et sensibiliser le public à cette discipline en pleine expansion.  EN SAVOIR +
URL:https://culture.saintmartindheres.fr/agenda/street-art-fest-grenoble-alpes-2021/
CATEGORIES:cultures urbaines,Sortir et pratiquer
ATTACH;FMTTYPE=image/png:https://culture.saintmartindheres.fr/culture_sitep/wp-content/uploads/2021/04/A3_VISU-Smh_Street-Art-Fest-2021.png
END:VEVENT
BEGIN:VEVENT
DTSTART;VALUE=DATE:20210528
DTEND;VALUE=DATE:20210704
DTSTAMP:20260422T182029
CREATED:20210521T143804Z
LAST-MODIFIED:20210521T143935Z
UID:21203-1622160000-1625356799@culture.saintmartindheres.fr
SUMMARY:[Street Art Fest] Expo des lycéens de Pablo Neruda avec l'artiste Cobie
DESCRIPTION:Exposition des travaux des lycéens de Pablo Neruda accompagnés par l’artiste Cobie \n  \nComme un hier vu de demain (ou le contraire) EN SAVOIR +\nDu ven. 28 mai au sam. 3 juillet\nHall d’accueil de la Maison communale\, 111 avenue Ambroise Croizat\, 38400 Saint-Martin-d’Hères
URL:https://culture.saintmartindheres.fr/agenda/street-art-fest-expo-des-lyceens-de-pablo-neruda-avec-lartiste-cobie/
LOCATION:Maison communale\, 111 avenue Ambroise Croizat\, Saint-Martin-d'Hères\, 38400
CATEGORIES:cultures urbaines,Sortir et pratiquer
ATTACH;FMTTYPE=image/jpeg:https://culture.saintmartindheres.fr/culture_sitep/wp-content/uploads/2021/05/Expo-Lycee-Pablo-Neruda-1_Street-Art-2021.jpg
END:VEVENT
END:VCALENDAR