BEGIN:VCALENDAR
VERSION:2.0
PRODID:-//Portail culturel de Saint-Martin-d&#039;Hères - ECPv6.0.8//NONSGML v1.0//EN
CALSCALE:GREGORIAN
METHOD:PUBLISH
X-ORIGINAL-URL:https://culture.saintmartindheres.fr
X-WR-CALDESC:évènements pour Portail culturel de Saint-Martin-d&#039;Hères
REFRESH-INTERVAL;VALUE=DURATION:PT1H
X-Robots-Tag:noindex
X-PUBLISHED-TTL:PT1H
BEGIN:VTIMEZONE
TZID:Europe/Paris
BEGIN:DAYLIGHT
TZOFFSETFROM:+0100
TZOFFSETTO:+0200
TZNAME:CEST
DTSTART:20210328T010000
END:DAYLIGHT
BEGIN:STANDARD
TZOFFSETFROM:+0200
TZOFFSETTO:+0100
TZNAME:CET
DTSTART:20211031T010000
END:STANDARD
END:VTIMEZONE
BEGIN:VEVENT
DTSTART;TZID=Europe/Paris:20210114T190000
DTEND;TZID=Europe/Paris:20210116T210000
DTSTAMP:20260421T063049
CREATED:20200625T122356Z
LAST-MODIFIED:20210111T101720Z
UID:15288-1610650800-1610830800@culture.saintmartindheres.fr
SUMMARY:[SMH en scène]  Carte blanche à PELOUSE > ANNULATION
DESCRIPTION:JEU. 14\, VEN. 15 et SAM 16 JAN. 19h ANNULATION à L’espace culturel René Proby\nMusique – Chanson contemporaine / Tarifs 19€ | 16€ | 12€ | 8€\nCARTE BLANCHE À Pelouse\nJEU. 14 JAN. + MONTEVAGO THÉO CECCALDI ET ROBERTO NEGRO\nVEN. 15 JAN. + LAURA CAHEN\nSAM. 16 JAN. + NOSFELL\nLIRE +
URL:https://culture.saintmartindheres.fr/agenda/smh-en-scene-carte-blanche-a-pelouse/
LOCATION:Espace culturel René Proby\, rue George Sand\, Saint-Martin-d'Hères\, ISERE\, 38400\, France
CATEGORIES:Concerts,Sortir et pratiquer
ATTACH;FMTTYPE=image/jpeg:https://culture.saintmartindheres.fr/culture_sitep/wp-content/uploads/2020/06/130x170_plaquette-HB_2020-2021_UNE.jpg
END:VEVENT
BEGIN:VEVENT
DTSTART;TZID=Europe/Paris:20210119T200000
DTEND;TZID=Europe/Paris:20210119T213000
DTSTAMP:20260421T063049
CREATED:20200625T122730Z
LAST-MODIFIED:20210111T101833Z
UID:15290-1611086400-1611091800@culture.saintmartindheres.fr
SUMMARY:[SMH en scène] ULISSE DE TAOURIRT– Cie Nomade In France > ANNULATION
DESCRIPTION:ANNULATION\nMAR. 19 JANV. 20h à L’heure bleue\nThéâtre musical / Dès 12 ans / Durée 1h30 / Tarifs 19€ | 16€ | 12€ | 8€\nUlysse de Taourirt\nABDEL WAHEB SEFSAF / CIE NOMADE IN FRANCE\nLIRE +
URL:https://culture.saintmartindheres.fr/agenda/smh-en-scene-ulisse-de-taourirt-cie-nomade-in-france-des-12-ans/
LOCATION:L’heure bleue\, 2 Avenue Jean Vilar\, Saint Martin d'Hères\, ISERE\, 38400\, France
CATEGORIES:Sortir et pratiquer,Théâtre
ATTACH;FMTTYPE=image/jpeg:https://culture.saintmartindheres.fr/culture_sitep/wp-content/uploads/2020/06/130x170_plaquette-HB_2020-2021_UNE.jpg
END:VEVENT
BEGIN:VEVENT
DTSTART;TZID=Europe/Paris:20210123T190000
DTEND;TZID=Europe/Paris:20210123T193000
DTSTAMP:20260421T063049
CREATED:20210113T125856Z
LAST-MODIFIED:20210113T125900Z
UID:19345-1611428400-1611430200@culture.saintmartindheres.fr
SUMMARY:NUIT DE LA LECTURE\, au tel chez vous à 19h...
DESCRIPTION:NUIT DE LA LECTURE\nLa Médiathèque de Saint-Martin-d’Hères vous donne rendez-vous samedi 23 janvier pour un événement entièrement en ligne.\n\nAu programme ! AU TÉLÉPHONE DE CHEZ VOUS à 19h  \n\nUNE HISTOIRE … UN CONTEUR PROFESSIONNEL AU BOUT DU FIL\nLe conteur Luigi Rignanese sera au téléphone chez vous\, samedi 23 janvier à 19h\nInscription obligatoire et gratuite auprès des bibliothécaires qui vous communiqueront un code d’accès. En partenariat avec les Arts du Récit.\nPublic familial\, enfants à partir de 7 ans / Durée 30 minutes\nEN SAVOIR + et PROGRAMME COMPLET ICI\n\n 
URL:https://culture.saintmartindheres.fr/agenda/nuit-de-la-lecture-au-tel-chez-vous-a-19h/
CATEGORIES:Lecture,Sortir et pratiquer
ATTACH;FMTTYPE=image/png:https://culture.saintmartindheres.fr/culture_sitep/wp-content/uploads/2021/01/VISU-nuit-lecture.png
END:VEVENT
BEGIN:VEVENT
DTSTART;VALUE=DATE:20210126
DTEND;VALUE=DATE:20210210
DTSTAMP:20260421T063049
CREATED:20210120T105241Z
LAST-MODIFIED:20210120T105530Z
UID:19435-1611619200-1612915199@culture.saintmartindheres.fr
SUMMARY:La Quinzaine du Numérique POUR LES PETITES ET LES GRANDES OREILLES
DESCRIPTION:Exclusivement en ligne !\nDès le 26 janvier\, La Quinzaine numérique 2021 organisée par la médiathèque de Saint-Martin-d’Hères s’invite exclusivement en ligne cette année.  Un vaste programme s’offre à tous\, des vidéos préparées par les bibliothécaires\, des sélections d’applis\, de la musique\, du conseil de podcasts\, une lecture et des chansons pour les petits.\nLes contenus seront disponibles en ligne à l’adresse donnée par le QR code sur l’affiche à partir du 26 janvier\, pas avant. EN SAVOIR + 
URL:https://culture.saintmartindheres.fr/agenda/la-quinzaine-du-numerique-pour-les-petites-et-les-grandes-oreilles/
CATEGORIES:Lecture,Multimédia,Sortir et pratiquer
ATTACH;FMTTYPE=image/png:https://culture.saintmartindheres.fr/culture_sitep/wp-content/uploads/2021/01/VISU-Quinzaine-2021.png
END:VEVENT
END:VCALENDAR