BEGIN:VCALENDAR
VERSION:2.0
PRODID:-//Portail culturel de Saint-Martin-d&#039;Hères - ECPv6.0.8//NONSGML v1.0//EN
CALSCALE:GREGORIAN
METHOD:PUBLISH
X-ORIGINAL-URL:https://culture.saintmartindheres.fr
X-WR-CALDESC:évènements pour Portail culturel de Saint-Martin-d&#039;Hères
REFRESH-INTERVAL;VALUE=DURATION:PT1H
X-Robots-Tag:noindex
X-PUBLISHED-TTL:PT1H
BEGIN:VTIMEZONE
TZID:Europe/Paris
BEGIN:DAYLIGHT
TZOFFSETFROM:+0100
TZOFFSETTO:+0200
TZNAME:CEST
DTSTART:20200329T010000
END:DAYLIGHT
BEGIN:STANDARD
TZOFFSETFROM:+0200
TZOFFSETTO:+0100
TZNAME:CET
DTSTART:20201025T010000
END:STANDARD
END:VTIMEZONE
BEGIN:VEVENT
DTSTART;TZID=Europe/Paris:20201215T180000
DTEND;TZID=Europe/Paris:20201215T190000
DTSTAMP:20260420T072017
CREATED:20201005T120809Z
LAST-MODIFIED:20201130T142359Z
UID:17682-1608055200-1608058800@culture.saintmartindheres.fr
SUMMARY:[annulé] CAFÉ-HISTOIRE : Histoire et urbanisme du Couvent des Minimes
DESCRIPTION:Café Histoire En savoir +\nle Rendez-vous du  mar. 15 déc. à 18h est annulé\nà la Médiathèque Espace Romain-Rolland\nRencontre avec Marion André\, urbaniste\,\nhistoire et urbanisme du Couvent des Minimes de la Plaine.\n→ Infos auprès des bibliothécaires.\nTél. 04 76 24 84 07 mediatheque-rolland@saintmartindheres.fr\n 
URL:https://culture.saintmartindheres.fr/agenda/cafe-histoire-histoire-et-urbanisme-du-couvent-des-minimes/
LOCATION:Médiathèque Espace Romain Rolland\, 5 avenue Romain Rolland\, Saint-Martin-d'Hères\, ISERE\, 38400\, France
CATEGORIES:Patrimoine,Sortir et pratiquer
ATTACH;FMTTYPE=image/jpeg:https://culture.saintmartindheres.fr/culture_sitep/wp-content/uploads/2020/10/110563-cour-couvent-des-minimes-plaine-saint-martin-d-heres.jpg
END:VEVENT
END:VCALENDAR