BEGIN:VCALENDAR
VERSION:2.0
PRODID:-//Portail culturel de Saint-Martin-d&#039;Hères - ECPv6.0.8//NONSGML v1.0//EN
CALSCALE:GREGORIAN
METHOD:PUBLISH
X-WR-CALNAME:Portail culturel de Saint-Martin-d&#039;Hères
X-ORIGINAL-URL:https://culture.saintmartindheres.fr
X-WR-CALDESC:évènements pour Portail culturel de Saint-Martin-d&#039;Hères
REFRESH-INTERVAL;VALUE=DURATION:PT1H
X-Robots-Tag:noindex
X-PUBLISHED-TTL:PT1H
BEGIN:VTIMEZONE
TZID:Europe/Paris
BEGIN:DAYLIGHT
TZOFFSETFROM:+0100
TZOFFSETTO:+0200
TZNAME:CEST
DTSTART:20210328T010000
END:DAYLIGHT
BEGIN:STANDARD
TZOFFSETFROM:+0200
TZOFFSETTO:+0100
TZNAME:CET
DTSTART:20211031T010000
END:STANDARD
END:VTIMEZONE
BEGIN:VEVENT
DTSTART;TZID=Europe/Paris:20210318T200000
DTEND;TZID=Europe/Paris:20210318T213000
DTSTAMP:20260425T155529
CREATED:20200625T132026Z
LAST-MODIFIED:20210301T091906Z
UID:15302-1616097600-1616103000@culture.saintmartindheres.fr
SUMMARY:[annulé] OPUS 111 Aka Moon & Invités
DESCRIPTION:ANNULATION – Info Billetterie tel. 04 76 14 08 08\nJEU. 18 MARS 20h à L’heure bleue\nMusique – De Beethoven au Jazz / Tarifs 19€ | 16€ | 12€ | 8€\nOPUS 111\nAka Moon & Invités\nLIRE +
URL:https://culture.saintmartindheres.fr/agenda/smh-en-scene-opus-111-aka-moon-invites/
LOCATION:L’heure bleue\, 2 Avenue Jean Vilar\, Saint Martin d'Hères\, ISERE\, 38400\, France
CATEGORIES:Concerts,Musique,Sortir et pratiquer
ATTACH;FMTTYPE=image/jpeg:https://culture.saintmartindheres.fr/culture_sitep/wp-content/uploads/2020/06/130x170_plaquette-HB_2020-2021_UNE.jpg
END:VEVENT
BEGIN:VEVENT
DTSTART;VALUE=DATE:20210329
DTEND;VALUE=DATE:20210410
DTSTAMP:20260425T155529
CREATED:20210323T104919Z
LAST-MODIFIED:20210323T104938Z
UID:20228-1616976000-1618012799@culture.saintmartindheres.fr
SUMMARY:QUINZAINE ARTISTIQUE CRC Erik SATIE – Du 29 mars au 9 avril > Ouvrez l’œil et les oreilles…
DESCRIPTION:CRC ERIK SATIE\nDu 29 mars au 9 avril 2021\nQuinzaine artistique virtuelle et plus si affinités… EN SAVOIR +\n« Les Cartes Postales de Satie »\nCette année encore\, pas de rendez-vous dans nos salles favorites ou au coin de nos rues pour nos traditionnelles rencontres artistiques… Mais croyez-vous que cela nous empêche de penser à vous ? NON ! Alors\, nous allons vous raconter…Ouvrez l’oeil et les oreilles !\nDes vidéos vont être postées régulièrement tout au long des deux semaines… \n 
URL:https://culture.saintmartindheres.fr/agenda/quinzaine-artistique-crc-erik-satie-du-29-mars-au-9-avril-ouvrez-loeil-et-les-oreilles/
CATEGORIES:Musique,Sortir et pratiquer
ATTACH;FMTTYPE=image/jpeg:https://culture.saintmartindheres.fr/culture_sitep/wp-content/uploads/2021/03/A5_quinzaine-artistique_2021_une.jpg
END:VEVENT
BEGIN:VEVENT
DTSTART;TZID=Europe/Paris:20210331T103000
DTEND;TZID=Europe/Paris:20210331T173000
DTSTAMP:20260425T155529
CREATED:20200625T132835Z
LAST-MODIFIED:20210311T095234Z
UID:15306-1617186600-1617211800@culture.saintmartindheres.fr
SUMMARY:[annulé] TEMPS – Cie Haut Les Mains\, dès 6 mois
DESCRIPTION:ANNULATION\nMERC. 31 MARS à 10h30\, 16h et 17h30\nà L’espace culturel René Proby\nPoésie marionnettique et Musique / Dès 6 mois / Durée 25 min / Tarifs unique 5€\nTemps\nCie Hauts Les Mains\nLIRE +
URL:https://culture.saintmartindheres.fr/agenda/smh-en-scene-temps-cie-haut-les-mains-des-6-mois/
LOCATION:Espace culturel René Proby\, rue George Sand\, Saint-Martin-d'Hères\, ISERE\, 38400\, France
CATEGORIES:Cirque,Musique,Sortir et pratiquer
ATTACH;FMTTYPE=image/jpeg:https://culture.saintmartindheres.fr/culture_sitep/wp-content/uploads/2020/06/130x170_plaquette-HB_2020-2021_UNE.jpg
END:VEVENT
END:VCALENDAR