BEGIN:VCALENDAR
VERSION:2.0
PRODID:-//Portail culturel de Saint-Martin-d&#039;Hères - ECPv6.0.8//NONSGML v1.0//EN
CALSCALE:GREGORIAN
METHOD:PUBLISH
X-ORIGINAL-URL:https://culture.saintmartindheres.fr
X-WR-CALDESC:évènements pour Portail culturel de Saint-Martin-d&#039;Hères
REFRESH-INTERVAL;VALUE=DURATION:PT1H
X-Robots-Tag:noindex
X-PUBLISHED-TTL:PT1H
BEGIN:VTIMEZONE
TZID:Europe/Paris
BEGIN:DAYLIGHT
TZOFFSETFROM:+0100
TZOFFSETTO:+0200
TZNAME:CEST
DTSTART:20240331T010000
END:DAYLIGHT
BEGIN:STANDARD
TZOFFSETFROM:+0200
TZOFFSETTO:+0100
TZNAME:CET
DTSTART:20241027T010000
END:STANDARD
END:VTIMEZONE
BEGIN:VEVENT
DTSTART;TZID=Europe/Paris:20240529T133000
DTEND;TZID=Europe/Paris:20240529T213000
DTSTAMP:20260424T125620
CREATED:20240522T101506Z
LAST-MODIFIED:20240522T135714Z
UID:60969-1716989400-1717018200@culture.saintmartindheres.fr
SUMMARY:🎶PORTES OUVERTES dès 13h30 au CRC SATIE
DESCRIPTION:
URL:https://culture.saintmartindheres.fr/agenda/%f0%9f%8e%b6portes-ouvertes-des-13h30-au-crc-satie/
LOCATION:CRC – Centre Erik Satie\, 1 place du 8 Février 1962\, Saint-Martin-d'Hères\, ISERE\, 38400\, France
CATEGORIES:Danse,Musique,Sortir et pratiquer
ATTACH;FMTTYPE=image/jpeg:https://culture.saintmartindheres.fr/culture_sitep/wp-content/uploads/2024/05/24-xx_3125x1042px_portail-culturel_Porte-ouverte_inscription_Satie_EB.jpg
ORGANIZER;CN="CRC%20Centre%20Erik%20Satie":MAILTO:centre.esatie@saintmartindheres.fr
END:VEVENT
END:VCALENDAR