BEGIN:VCALENDAR
VERSION:2.0
PRODID:-//Portail culturel de Saint-Martin-d&#039;Hères - ECPv6.0.8//NONSGML v1.0//EN
CALSCALE:GREGORIAN
METHOD:PUBLISH
X-WR-CALNAME:Portail culturel de Saint-Martin-d&#039;Hères
X-ORIGINAL-URL:https://culture.saintmartindheres.fr
X-WR-CALDESC:évènements pour Portail culturel de Saint-Martin-d&#039;Hères
REFRESH-INTERVAL;VALUE=DURATION:PT1H
X-Robots-Tag:noindex
X-PUBLISHED-TTL:PT1H
BEGIN:VTIMEZONE
TZID:Europe/Paris
BEGIN:DAYLIGHT
TZOFFSETFROM:+0100
TZOFFSETTO:+0200
TZNAME:CEST
DTSTART:20240331T010000
END:DAYLIGHT
BEGIN:STANDARD
TZOFFSETFROM:+0200
TZOFFSETTO:+0100
TZNAME:CET
DTSTART:20241027T010000
END:STANDARD
END:VTIMEZONE
BEGIN:VEVENT
DTSTART;VALUE=DATE:20240130
DTEND;VALUE=DATE:20240218
DTSTAMP:20260424T063323
CREATED:20231220T142641Z
LAST-MODIFIED:20240109T084753Z
UID:56648-1706572800-1708214399@culture.saintmartindheres.fr
SUMMARY:HIP-HOP NEVER STOP FESTIVAL#8
DESCRIPTION:En partenariat avec Citadanse\n Saint-Martin-d’Hères en scène  vous donne rdv pour le Hip-hop Never stop festival à L’heure bleue et dans la Métropole.  Des incontournables comme la Battle ou les visites  street-art. Une nouveauté : un atelier géant pour toute la famille en forme de boom hip-hop viendra pimenter la programmation\, promettant des moments de convivialité et de partage.  Préparez-vous à être éblouis\, à danser\, à créer et à partager !\nDécouvrez toute la programmation ICI
URL:https://culture.saintmartindheres.fr/agenda/hip-hop-never-stop-festival8/
LOCATION:L’heure bleue\, 2 Avenue Jean Vilar\, Saint Martin d'Hères\, ISERE\, 38400\, France
CATEGORIES:cultures urbaines,Danse,Sortir et pratiquer
ATTACH;FMTTYPE=image/jpeg:https://culture.saintmartindheres.fr/culture_sitep/wp-content/uploads/2023/12/HHNSF8_SMHmaVille_469-1.jpg
ORGANIZER;CN="L%27heure%20bleue":MAILTO:billetterie-hb@saintmartindheres.fr
END:VEVENT
BEGIN:VEVENT
DTSTART;TZID=Europe/Paris:20240217T200000
DTEND;TZID=Europe/Paris:20240217T220000
DTSTAMP:20260424T063323
CREATED:20230620T082348Z
LAST-MODIFIED:20230620T082349Z
UID:51589-1708200000-1708207200@culture.saintmartindheres.fr
SUMMARY:[Hip-Hop Never Stop Festival] BATTLE – Dès 6 ans – à L’heure bleue
DESCRIPTION:Hip-Hop Never Stop Festival \nBATTLE\nSAM. 17 FEV. 20h L’heure bleue\nTarif B – Dès 6 ans – Durée 2h\nApothéose finale pour le rendez-vous incontournable du festival. Deux objectifs pour les danseurs : battre les adversaires et enthousiasmer le public. EN SAVOIR +
URL:https://culture.saintmartindheres.fr/agenda/hip-hop-never-stop-festival-battle-des-6-ans-a-lheure-bleue/
LOCATION:L’heure bleue\, 2 Avenue Jean Vilar\, Saint Martin d'Hères\, ISERE\, 38400\, France
CATEGORIES:cultures urbaines,Danse,Sortir et pratiquer
ATTACH;FMTTYPE=image/jpeg:https://culture.saintmartindheres.fr/culture_sitep/wp-content/uploads/2022/11/220212_WEB_BATTLE_HEURE-BLEUE©S.NELSON_IMG_3259.jpg
END:VEVENT
END:VCALENDAR