BEGIN:VCALENDAR
VERSION:2.0
PRODID:-//Portail culturel de Saint-Martin-d&#039;Hères - ECPv6.0.8//NONSGML v1.0//EN
CALSCALE:GREGORIAN
METHOD:PUBLISH
X-WR-CALNAME:Portail culturel de Saint-Martin-d&#039;Hères
X-ORIGINAL-URL:https://culture.saintmartindheres.fr
X-WR-CALDESC:évènements pour Portail culturel de Saint-Martin-d&#039;Hères
REFRESH-INTERVAL;VALUE=DURATION:PT1H
X-Robots-Tag:noindex
X-PUBLISHED-TTL:PT1H
BEGIN:VTIMEZONE
TZID:Europe/Paris
BEGIN:DAYLIGHT
TZOFFSETFROM:+0100
TZOFFSETTO:+0200
TZNAME:CEST
DTSTART:20230326T010000
END:DAYLIGHT
BEGIN:STANDARD
TZOFFSETFROM:+0200
TZOFFSETTO:+0100
TZNAME:CET
DTSTART:20231029T010000
END:STANDARD
END:VTIMEZONE
BEGIN:VEVENT
DTSTART;VALUE=DATE:20231114
DTEND;VALUE=DATE:20231217
DTSTAMP:20260424T011726
CREATED:20231102T142533Z
LAST-MODIFIED:20231102T142534Z
UID:55046-1699920000-1702771199@culture.saintmartindheres.fr
SUMMARY:AU BONHEUR des ARTS  – Dans les 4 médiathèques et ailleurs…
DESCRIPTION:Pour les enfants et leur famille\ndu 14 nov. au 16 déc. 2023\navec les équipes des 4 MEDIATHEQUES\n\nAU BONHEUR des ARTS Programme complet\nUn évènement annuel autour du livre jeunesse\, qui s’adresse aux enfants (de 0 à 11 ans) et à leur famille\, dans les médiathèques et ailleurs\, en complicité avec les Maisons de quartier et les équipements culturels au service de tous les arts\, musique\, danse\, théâtre\, peinture\, sculpture\, bande dessinée...
URL:https://culture.saintmartindheres.fr/agenda/au-bonheur-des-arts-dans-les-4-mediatheques-et-ailleurs/
LOCATION:Médiathèque Espace Paul Langevin\, 29 place Karl Marx\, Saint-Martin-d'Hères\, ISERE\, 38400\, France
CATEGORIES:Art-Contemporain,Cinéma,Danse,Lecture,Musique,Sortir et pratiquer,Théâtre
ATTACH;FMTTYPE=image/jpeg:https://culture.saintmartindheres.fr/culture_sitep/wp-content/uploads/2023/10/1200x1200-carre-web-au-bonheur-2023.jpg
ORGANIZER;CN="M%C3%A9diath%C3%A8que%20Espace%20Paul%20Langevin":MAILTO:med.langevin@saintmatindheres.fr
END:VEVENT
BEGIN:VEVENT
DTSTART;TZID=Europe/Paris:20231129T153000
DTEND;TZID=Europe/Paris:20231129T160000
DTSTAMP:20260424T011726
CREATED:20230619T124045Z
LAST-MODIFIED:20230619T124847Z
UID:51537-1701271800-1701273600@culture.saintmartindheres.fr
SUMMARY:[Dès 18 mois - Danse] UN PAS PLUS LOIN - Cie Kay + La Maison géante
DESCRIPTION:Parce qu’il n’y pas d’âge pour commencer à s’éveiller et s’émerveiller\, SMH en scène propose 📌deux rendez vous📌 pour les tout-petits EN SAVOIR +\n📌UN PAS PLUS LOIN – Cie Kay\nMERC. 29 NOV. 15h30\nDès 18 mois – Danse – Durée 30 min – Tarif unique 5€ à la Maison de quartier Aragon \n📌DANS MA MAISON – Cie La Clinquaille\nSAM. 2 DEC. 10h et 16h\nDès 1 an – Théâtre d’objet – Durée 30 min – Tarif unique 5€ – à l’ Espace culturel René Proby 
URL:https://culture.saintmartindheres.fr/agenda/des-18-mois-danse-un-pas-plus-loin-cie-kay-la-maison-geante/
LOCATION:Maison de Quartier Louis Aragon\, 27 Rue Chante Grenouille\, Saint-Martin-d'Hères\, 38400
CATEGORIES:Danse,Sortir et pratiquer
ATTACH;FMTTYPE=image/jpeg:https://culture.saintmartindheres.fr/culture_sitep/wp-content/uploads/2023/06/23-24_UnPasPlusLoin©Alice-Guerraz_web.jpg
END:VEVENT
END:VCALENDAR