BEGIN:VCALENDAR
VERSION:2.0
PRODID:-//Portail culturel de Saint-Martin-d&#039;Hères - ECPv6.0.8//NONSGML v1.0//EN
CALSCALE:GREGORIAN
METHOD:PUBLISH
X-WR-CALNAME:Portail culturel de Saint-Martin-d&#039;Hères
X-ORIGINAL-URL:https://culture.saintmartindheres.fr
X-WR-CALDESC:évènements pour Portail culturel de Saint-Martin-d&#039;Hères
REFRESH-INTERVAL;VALUE=DURATION:PT1H
X-Robots-Tag:noindex
X-PUBLISHED-TTL:PT1H
BEGIN:VTIMEZONE
TZID:Europe/Paris
BEGIN:DAYLIGHT
TZOFFSETFROM:+0100
TZOFFSETTO:+0200
TZNAME:CEST
DTSTART:20230326T010000
END:DAYLIGHT
BEGIN:STANDARD
TZOFFSETFROM:+0200
TZOFFSETTO:+0100
TZNAME:CET
DTSTART:20231029T010000
END:STANDARD
END:VTIMEZONE
BEGIN:VEVENT
DTSTART;TZID=Europe/Paris:20230512T180000
DTEND;TZID=Europe/Paris:20230514T180000
DTSTAMP:20260423T155756
CREATED:20230503T122304Z
LAST-MODIFIED:20230503T122857Z
UID:49855-1683914400-1684087200@culture.saintmartindheres.fr
SUMMARY:RENDEZ-VOUS SUR PLACE – Cie Ru’elles
DESCRIPTION:12\, 13 et 14 mai RDV au Baz’Arts\n(ven. 18h-20h30 / sam. et dim. 9h-17h) LIRE +\nQuartier Renaudie\, Saint Martin d’Hères (38400) \nPour ce prochain Rendez-vous sur Place\, Julie Arménio et Nour Biriotti s’associent pour jouer avec l’architecture si particulière du quartier Renaudie. Nous partagerons des extraits du livre de l’architecte Jean Renaudie\, La ville combinatoire\, et nous les mettrons en regard de nos explorations et des expériences de certain-es habitant-es que nous pourrons rencontrer au détour d’une terrasse. \nLien d’inscription ici \nhttps://www.helloasso.com/associations/ru-elles/evenements/rendez-vous-sur-place-mai-2023\n>>> Possibilité de financer le stage pour les personnes en précarité en envoyant un mail à contact@ru-elles.com
URL:https://culture.saintmartindheres.fr/agenda/rendez-vous-sur-place-cie-ruelles/
LOCATION:BAZ’ART(S)\, 63 Avenue du 8 Mai 1945\, Saint-Martin-d'Hères\, 38400
CATEGORIES:Danse,Sortir et pratiquer
ATTACH;FMTTYPE=image/jpeg:https://culture.saintmartindheres.fr/culture_sitep/wp-content/uploads/2023/05/RDV-SUR-PLACE_RUELLES_MAI-2023_n.jpg
ORGANIZER;CN="Cie%20RU%27ELLES":MAILTO:contact@ru-elles.com
END:VEVENT
END:VCALENDAR