BEGIN:VCALENDAR
VERSION:2.0
PRODID:-//Portail culturel de Saint-Martin-d&#039;Hères - ECPv6.0.8//NONSGML v1.0//EN
CALSCALE:GREGORIAN
METHOD:PUBLISH
X-ORIGINAL-URL:https://culture.saintmartindheres.fr
X-WR-CALDESC:évènements pour Portail culturel de Saint-Martin-d&#039;Hères
REFRESH-INTERVAL;VALUE=DURATION:PT1H
X-Robots-Tag:noindex
X-PUBLISHED-TTL:PT1H
BEGIN:VTIMEZONE
TZID:Europe/Paris
BEGIN:DAYLIGHT
TZOFFSETFROM:+0100
TZOFFSETTO:+0200
TZNAME:CEST
DTSTART:20230326T010000
END:DAYLIGHT
BEGIN:STANDARD
TZOFFSETFROM:+0200
TZOFFSETTO:+0100
TZNAME:CET
DTSTART:20231029T010000
END:STANDARD
END:VTIMEZONE
BEGIN:VEVENT
DTSTART;TZID=Europe/Paris:20230222T100000
DTEND;TZID=Europe/Paris:20230222T170000
DTSTAMP:20260423T110250
CREATED:20221118T094717Z
LAST-MODIFIED:20221118T094717Z
UID:44371-1677060000-1677085200@culture.saintmartindheres.fr
SUMMARY:[Projet participatif] LES 22 – Cie Ru’elles – gratuit sur inscription
DESCRIPTION:« Par nos corps dansants\, pensons les lieux et nos usages »\nEN SAVOIR +\nRendez vous chaque 22 du mois à partir de 15 ans\n\nOuvert à toutes et tous : professionnel·les du spectacle\, amatrices et amateurs\, habitant·es. Chaque 22 déploie une thématique. Travail préparatoire et repas partagé en intérieur. \nGratuit – RDV au Baz’arts – 10h-17h — 1 fois par mois \n+ d’Info auprès de Ru’elles\n07 67 70 27 18 contact@ru-elles.com\nhttp://www.ru-elles.com/les-22/
URL:https://culture.saintmartindheres.fr/agenda/projet-participatif-les-22-cie-ruelles-gratuit-sur-inscription-2-2-2/
LOCATION:BAZ’ART(S)\, 63 Avenue du 8 Mai 1945\, Saint-Martin-d'Hères\, 38400
CATEGORIES:cultures urbaines,Danse,Sortir et pratiquer
ATTACH;FMTTYPE=image/jpeg:https://culture.saintmartindheres.fr/culture_sitep/wp-content/uploads/2022/10/22-carre-768x768-1.jpg
END:VEVENT
BEGIN:VEVENT
DTSTART;TZID=Europe/Paris:20230222T143000
DTEND;TZID=Europe/Paris:20230222T150000
DTSTAMP:20260423T110250
CREATED:20220713T083938Z
LAST-MODIFIED:20220713T084155Z
UID:35565-1677076200-1677078000@culture.saintmartindheres.fr
SUMMARY:[Danse] SOUS LE MANTEAU – La Cie Sur le Tas > Espace culturel René Proby
DESCRIPTION:Sous le manteau – La Cie Sur le Tas EN SAVOIR +\nDanse – Dès 3 ans – Durée 30 min\nMERC. 22 FEV. 14h30 / SAM. 25 FEV. 10h Espace culturel René Proby\nBilletterie 04 76 14 08 08\nUn manteau pour deux danseuses… Deux danseuses dans un manteau… Il n’y a pas quelque chose qui cloche ?!\n 
URL:https://culture.saintmartindheres.fr/agenda/danse-sous-le-manteau-la-cie-sur-le-tas-espace-culturel-rene-proby/
LOCATION:Espace culturel René Proby\, rue George Sand\, Saint-Martin-d'Hères\, ISERE\, 38400\, France
CATEGORIES:Danse,Sortir et pratiquer
ATTACH;FMTTYPE=image/png:https://culture.saintmartindheres.fr/culture_sitep/wp-content/uploads/2022/07/22-23-Sous-Le-Manteau-1-©Arsene-Froger_web.png
END:VEVENT
END:VCALENDAR