BEGIN:VCALENDAR
VERSION:2.0
PRODID:-//Portail culturel de Saint-Martin-d&#039;Hères - ECPv6.0.8//NONSGML v1.0//EN
CALSCALE:GREGORIAN
METHOD:PUBLISH
X-WR-CALNAME:Portail culturel de Saint-Martin-d&#039;Hères
X-ORIGINAL-URL:https://culture.saintmartindheres.fr
X-WR-CALDESC:évènements pour Portail culturel de Saint-Martin-d&#039;Hères
REFRESH-INTERVAL;VALUE=DURATION:PT1H
X-Robots-Tag:noindex
X-PUBLISHED-TTL:PT1H
BEGIN:VTIMEZONE
TZID:Europe/Paris
BEGIN:DAYLIGHT
TZOFFSETFROM:+0100
TZOFFSETTO:+0200
TZNAME:CEST
DTSTART:20230326T010000
END:DAYLIGHT
BEGIN:STANDARD
TZOFFSETFROM:+0200
TZOFFSETTO:+0100
TZNAME:CET
DTSTART:20231029T010000
END:STANDARD
END:VTIMEZONE
BEGIN:VEVENT
DTSTART;VALUE=DATE:20230119
DTEND;VALUE=DATE:20230205
DTSTAMP:20260423T092709
CREATED:20221215T110343Z
LAST-MODIFIED:20221215T110855Z
UID:45653-1674086400-1675555199@culture.saintmartindheres.fr
SUMMARY:HIP-HOP NEVER STOP FESTIVAL
DESCRIPTION:Du 19 janv. au 4 fev.\nEn partenariat avec Citadanse\nPour cette septième année\, Saint-Martin-d’Hères en scène avec la complicité de l’association Citadanse vous donne rendez-vous durant trois semaines avec le Hip-hop Never stop festival à L’heure bleue et dans la Métropole. Spectacles\, ateliers\, visites\, concours chorégraphique amateur et l’incontournable Battle. Autant de formes pour des moments privilégiés\, ceux par lesquels tout devient possible ! EN SAVOIR +
URL:https://culture.saintmartindheres.fr/agenda/hip-hop-never-stop-festival/
LOCATION:L’heure bleue\, 2 Avenue Jean Vilar\, Saint Martin d'Hères\, ISERE\, 38400\, France
CATEGORIES:Concerts,cultures urbaines,Danse,Sortir et pratiquer
ATTACH;FMTTYPE=image/jpeg:https://culture.saintmartindheres.fr/culture_sitep/wp-content/uploads/2022/12/UNE_HHNSF.jpg
END:VEVENT
BEGIN:VEVENT
DTSTART;TZID=Europe/Paris:20230202T200000
DTEND;TZID=Europe/Paris:20230202T210000
DTSTAMP:20260423T092709
CREATED:20220712T145329Z
LAST-MODIFIED:20220712T145901Z
UID:35493-1675368000-1675371600@culture.saintmartindheres.fr
SUMMARY:[Hip-Hop festival] OÜM – Fouad Boussouf / CCN du Havre Normandie > La Rampe\, Echirolles
DESCRIPTION:HIP-HOP FESTIVAL du 19 JANV. au 3 FEV. 2023\nOÜM – Fouad Boussouf – CCN du Havre Normandie\nDanse et musique – Dès 7 ans – Durée 1h\nJEU. 2 FEV. 20h La Rampe\, Echirolles\nBilletterie 04 76 14 08 08\nSur les airs de la mythique chanteuse égyptienne\, Oüm Kalthoum\, les danseurs vibrent à l’unisson. Une pièce poétique où danse et musique célèbrent l’ivresse\, la transe et l’amour. EN SAVOIR +\n 
URL:https://culture.saintmartindheres.fr/agenda/hip-hop-festival-oum-fouad-boussouf-ccn-du-havre-normandie-la-rampe-echirolles/
LOCATION:La Rampe\, 15\, avenue du 8 mai 1945\, Échirolles\, 38130
CATEGORIES:cultures urbaines,Danse,Sortir et pratiquer
ATTACH;FMTTYPE=image/png:https://culture.saintmartindheres.fr/culture_sitep/wp-content/uploads/2022/07/logo-hip-hop-festival_noir_2022-copie.png
END:VEVENT
END:VCALENDAR