BEGIN:VCALENDAR
VERSION:2.0
PRODID:-//Portail culturel de Saint-Martin-d&#039;Hères - ECPv6.0.8//NONSGML v1.0//EN
CALSCALE:GREGORIAN
METHOD:PUBLISH
X-ORIGINAL-URL:https://culture.saintmartindheres.fr
X-WR-CALDESC:évènements pour Portail culturel de Saint-Martin-d&#039;Hères
REFRESH-INTERVAL;VALUE=DURATION:PT1H
X-Robots-Tag:noindex
X-PUBLISHED-TTL:PT1H
BEGIN:VTIMEZONE
TZID:Europe/Paris
BEGIN:DAYLIGHT
TZOFFSETFROM:+0100
TZOFFSETTO:+0200
TZNAME:CEST
DTSTART:20220327T010000
END:DAYLIGHT
BEGIN:STANDARD
TZOFFSETFROM:+0200
TZOFFSETTO:+0100
TZNAME:CET
DTSTART:20221030T010000
END:STANDARD
END:VTIMEZONE
BEGIN:VEVENT
DTSTART;TZID=Europe/Paris:20220615T140000
DTEND;TZID=Europe/Paris:20220615T170000
DTSTAMP:20260424T161025
CREATED:20220520T151651Z
LAST-MODIFIED:20220520T151651Z
UID:31293-1655301600-1655312400@culture.saintmartindheres.fr
SUMMARY:[Citadanse] LE PRINTEMPS DE LA DANSE > Danse à Barbusse
DESCRIPTION:LE PRINTEMPS DE LA DANSE 2022 \n> les 4\, 11 et 15 juin > Le programme complet ICI\nLa compagnie Citadanse se mobilise pour organiser des temps forts autour des pratiques urbaines dans le site de l’école Barbusse et la salle de spectacle L’heure bleue\, en mettant en avant la danse Hip-hop. Il s’agit de la 7ème édition de cette rencontre\, organisée en partenariat avec l’école Barbusse et la Ville de Saint-Martin-d’Hères.
URL:https://culture.saintmartindheres.fr/agenda/citadanse-le-printemps-de-la-danse-danse-a-barbusse/
CATEGORIES:Danse,Sortir et pratiquer
ATTACH;FMTTYPE=image/jpeg:https://culture.saintmartindheres.fr/culture_sitep/wp-content/uploads/2022/05/UNE-scaled.jpg
END:VEVENT
END:VCALENDAR