BEGIN:VCALENDAR
VERSION:2.0
PRODID:-//Portail culturel de Saint-Martin-d&#039;Hères - ECPv6.0.8//NONSGML v1.0//EN
CALSCALE:GREGORIAN
METHOD:PUBLISH
X-ORIGINAL-URL:https://culture.saintmartindheres.fr
X-WR-CALDESC:évènements pour Portail culturel de Saint-Martin-d&#039;Hères
REFRESH-INTERVAL;VALUE=DURATION:PT1H
X-Robots-Tag:noindex
X-PUBLISHED-TTL:PT1H
BEGIN:VTIMEZONE
TZID:Europe/Paris
BEGIN:DAYLIGHT
TZOFFSETFROM:+0100
TZOFFSETTO:+0200
TZNAME:CEST
DTSTART:20230326T010000
END:DAYLIGHT
BEGIN:STANDARD
TZOFFSETFROM:+0200
TZOFFSETTO:+0100
TZNAME:CET
DTSTART:20231029T010000
END:STANDARD
END:VTIMEZONE
BEGIN:VEVENT
DTSTART;TZID=Europe/Paris:20230908T170000
DTEND;TZID=Europe/Paris:20230908T183000
DTSTAMP:20260423T204057
CREATED:20230802T143716Z
LAST-MODIFIED:20230803T101432Z
UID:52801-1694192400-1694197800@culture.saintmartindheres.fr
SUMMARY:[JEPM] VERNISSAGE EXPO - LES 22 - Cie Ru'elles - Entrée libre
DESCRIPTION:Exposition dans le cadre des Journées européennes du Patrimoine et du Matrimoine 08 > 29 sept.\nVernissage ven. 8 sept à 17h –  Hall d’accueil de la Maison communale – Entrée libre
URL:https://culture.saintmartindheres.fr/agenda/vernissage-expo-les-22-cie-ruelles/
LOCATION:Maison communale\, 111 avenue Ambroise Croizat\, Saint-Martin-d'Hères\, 38400
CATEGORIES:Danse,Sortir et pratiquer
ATTACH;FMTTYPE=image/jpeg:https://culture.saintmartindheres.fr/culture_sitep/wp-content/uploads/2023/08/EXPO-les-22.jpg
END:VEVENT
BEGIN:VEVENT
DTSTART;TZID=Europe/Paris:20230916T100000
DTEND;TZID=Europe/Paris:20230916T200000
DTSTAMP:20260423T204057
CREATED:20230619T080659Z
LAST-MODIFIED:20230620T084645Z
UID:51498-1694858400-1694894400@culture.saintmartindheres.fr
SUMMARY:[OUVERTURE de saison] L’heure bleue 30 ANS ÇA SE FÊTE !
DESCRIPTION:OUVERTURE DE SAISON\nSAM. 16 SEPT. L’heure bleue\nGratuit sur réservation\nPour célébrer l’anniversaire de la construction de L’heure bleue\, Saint-Martin-d’Hères en scène s’associe aux Journées Européennes du Matrimoine et du Patrimoine. Un samedi pour célébrer une nouvelle saison de spectacles et découvertes. Entre visites décalées\, bal participatif hip-hop et exposition\, montez à bord de notre équipage culturel !\n30 ANS – Tout un programme ! EN SAVOIR +
URL:https://culture.saintmartindheres.fr/agenda/ouverture-de-saison-lheure-bleue-30-ans-ca-se-fete/
LOCATION:L’heure bleue\, 2 Avenue Jean Vilar\, Saint Martin d'Hères\, ISERE\, 38400\, France
CATEGORIES:Concerts,cultures urbaines,Danse,Humour,Musique,Patrimoine,Sortir et pratiquer,Théâtre
ATTACH;FMTTYPE=image/jpeg:https://culture.saintmartindheres.fr/culture_sitep/wp-content/uploads/2023/06/23-24_Happy-to-you©Cie-des-Gentils_web.jpg
END:VEVENT
END:VCALENDAR