BEGIN:VCALENDAR
VERSION:2.0
PRODID:-//Portail culturel de Saint-Martin-d&#039;Hères - ECPv6.0.8//NONSGML v1.0//EN
CALSCALE:GREGORIAN
METHOD:PUBLISH
X-WR-CALNAME:Portail culturel de Saint-Martin-d&#039;Hères
X-ORIGINAL-URL:https://culture.saintmartindheres.fr
X-WR-CALDESC:évènements pour Portail culturel de Saint-Martin-d&#039;Hères
REFRESH-INTERVAL;VALUE=DURATION:PT1H
X-Robots-Tag:noindex
X-PUBLISHED-TTL:PT1H
BEGIN:VTIMEZONE
TZID:Europe/Paris
BEGIN:DAYLIGHT
TZOFFSETFROM:+0100
TZOFFSETTO:+0200
TZNAME:CEST
DTSTART:20230326T010000
END:DAYLIGHT
BEGIN:STANDARD
TZOFFSETFROM:+0200
TZOFFSETTO:+0100
TZNAME:CET
DTSTART:20231029T010000
END:STANDARD
END:VTIMEZONE
BEGIN:VEVENT
DTSTART;VALUE=DATE:20230616
DTEND;VALUE=DATE:20230618
DTSTAMP:20260423T155637
CREATED:20230616T062909Z
LAST-MODIFIED:20230616T062910Z
UID:51443-1686873600-1687046399@culture.saintmartindheres.fr
SUMMARY:[Festival] FOUL’BAZARTS
DESCRIPTION:FOUL’ BAZARTS : Un festival collectif\, fédérateur\, et festif !\nNous sommes raviEs de vous convier à la 12e édition du festival qui aura lieu les 16 et 17 juin sur la place Pierre Mendes France dans le quartier Renaudie de Saint-Martin-d’Hères (comment venir). Nous comptons sur vous pour être au rendez-vous ! Programme complet ICI\nSPECTACLES / ATELIERS / CONCERTS Gratuits\nBUVETTE & RESTAURATION À petit prix
URL:https://culture.saintmartindheres.fr/agenda/festival-foulbazarts-2/
LOCATION:BAZ’ART(S)\, 63 Avenue du 8 Mai 1945\, Saint-Martin-d'Hères\, 38400
CATEGORIES:Cirque,Concerts,Danse,Sortir et pratiquer,Théâtre
ATTACH;FMTTYPE=image/jpeg:https://culture.saintmartindheres.fr/culture_sitep/wp-content/uploads/2023/06/Prog-FOUL-BAZARTS-722x1024-1.jpg
END:VEVENT
BEGIN:VEVENT
DTSTART;TZID=Europe/Paris:20230622T100000
DTEND;TZID=Europe/Paris:20230622T170000
DTSTAMP:20260423T155637
CREATED:20221118T094916Z
LAST-MODIFIED:20221118T094916Z
UID:44379-1687428000-1687453200@culture.saintmartindheres.fr
SUMMARY:[Projet participatif] LES 22 – Cie Ru’elles – gratuit sur inscription
DESCRIPTION:« Par nos corps dansants\, pensons les lieux et nos usages »\nEN SAVOIR +\nRendez vous chaque 22 du mois à partir de 15 ans\n\nOuvert à toutes et tous : professionnel·les du spectacle\, amatrices et amateurs\, habitant·es. Chaque 22 déploie une thématique. Travail préparatoire et repas partagé en intérieur. \nGratuit – RDV au Baz’arts – 10h-17h — 1 fois par mois \n+ d’Info auprès de Ru’elles\n07 67 70 27 18 contact@ru-elles.com\nhttp://www.ru-elles.com/les-22/
URL:https://culture.saintmartindheres.fr/agenda/projet-participatif-les-22-cie-ruelles-gratuit-sur-inscription-2-2-2-2-2-2-2/
LOCATION:BAZ’ART(S)\, 63 Avenue du 8 Mai 1945\, Saint-Martin-d'Hères\, 38400
CATEGORIES:cultures urbaines,Danse,Sortir et pratiquer
ATTACH;FMTTYPE=image/jpeg:https://culture.saintmartindheres.fr/culture_sitep/wp-content/uploads/2022/10/22-carre-768x768-1.jpg
END:VEVENT
BEGIN:VEVENT
DTSTART;TZID=Europe/Paris:20230627T180000
DTEND;TZID=Europe/Paris:20230627T190000
DTSTAMP:20260423T155637
CREATED:20230523T062036Z
LAST-MODIFIED:20230602T071257Z
UID:50399-1687888800-1687892400@culture.saintmartindheres.fr
SUMMARY:[SMH en scène] PRESENTATION DE SAISON 2023/24 – Gratuit sur réservation
DESCRIPTION:Présentation de Saison 2023/24\nMARDI 27 JUIN 18h à L’heure bleue\nTout public\nGratuit sur réservation Tel. 04 76 14 08 08 En savoir +
URL:https://culture.saintmartindheres.fr/agenda/smh-en-scene-presentation-de-saison-2023-24-gratuit-sur-reservation/
LOCATION:L’heure bleue\, 2 Avenue Jean Vilar\, Saint Martin d'Hères\, ISERE\, 38400\, France
CATEGORIES:Danse,Humour,Musique,Sortir et pratiquer,Théâtre
ATTACH;FMTTYPE=image/jpeg:https://culture.saintmartindheres.fr/culture_sitep/wp-content/uploads/2023/06/Encart_presentation-de-saison-23-24.jpg
END:VEVENT
END:VCALENDAR