BEGIN:VCALENDAR
VERSION:2.0
PRODID:-//Portail culturel de Saint-Martin-d&#039;Hères - ECPv6.0.8//NONSGML v1.0//EN
CALSCALE:GREGORIAN
METHOD:PUBLISH
X-WR-CALNAME:Portail culturel de Saint-Martin-d&#039;Hères
X-ORIGINAL-URL:https://culture.saintmartindheres.fr
X-WR-CALDESC:évènements pour Portail culturel de Saint-Martin-d&#039;Hères
REFRESH-INTERVAL;VALUE=DURATION:PT1H
X-Robots-Tag:noindex
X-PUBLISHED-TTL:PT1H
BEGIN:VTIMEZONE
TZID:Europe/Paris
BEGIN:DAYLIGHT
TZOFFSETFROM:+0100
TZOFFSETTO:+0200
TZNAME:CEST
DTSTART:20220327T010000
END:DAYLIGHT
BEGIN:STANDARD
TZOFFSETFROM:+0200
TZOFFSETTO:+0100
TZNAME:CET
DTSTART:20221030T010000
END:STANDARD
END:VTIMEZONE
BEGIN:VEVENT
DTSTART;VALUE=DATE:20220126
DTEND;VALUE=DATE:20220214
DTSTAMP:20260424T132818
CREATED:20211126T094906Z
LAST-MODIFIED:20211231T130214Z
UID:25996-1643155200-1644796799@culture.saintmartindheres.fr
SUMMARY:HIP-HOP DON’T STOP Festival
DESCRIPTION:Festival Hip-Hop Don’t Stop du 26 janvier au 13 février 2022\nà L’heure bleue\nTéléchargez le programme complet ICI\nTrois semaines placées sous le signe de la transmission et de l’exploration des cultures urbaines. Avec la co-direction de Citadanse\, partenaire et fidèle complice du festival\, et Bouba Landrille Tchouda\, parrain de l’événement\, nous vous avons préparé un programme complet : spectacles\, ateliers\, masterclass\, le retour du tremplin pour les jeunes talents et l’incontournable Battle !\nLa plaquette du festival sera diffusée au cours du mois de décembre.\nINFO ET RESERVATION TEL. 04 76 14 08 08 EN SAVOIR +\nRetrouvez nous sur les réseaux sociaux !\n@SMHenscene\n@citadanse\n@compagnie_citadance
URL:https://culture.saintmartindheres.fr/agenda/hip-hop-dont-stop-festival/
LOCATION:L’heure bleue\, 2 Avenue Jean Vilar\, Saint Martin d'Hères\, ISERE\, 38400\, France
CATEGORIES:cultures urbaines,Danse,Sortir et pratiquer
ATTACH;FMTTYPE=image/jpeg:https://culture.saintmartindheres.fr/culture_sitep/wp-content/uploads/2021/12/Une_HHDS.jpg
END:VEVENT
BEGIN:VEVENT
DTSTART;TZID=Europe/Paris:20220126T200000
DTEND;TZID=Europe/Paris:20220128T200000
DTSTAMP:20260424T132818
CREATED:20210702T125559Z
LAST-MODIFIED:20210705T113439Z
UID:22863-1643227200-1643400000@culture.saintmartindheres.fr
SUMMARY:[Hip-Hop Don't Stop Festival] J’AI PAS TOUJOURS DANSÉ COMME ÇA – Cie Malka
DESCRIPTION:Festival Hip-Hop Don’t Stop > Du 26 janvier au 12 février 2022\nMER. 26\, JEU. 27 et VEN. 28 JAN. 20h EN SAVOIR +\nà L’espace culturel René Proby\nDanse – Récit / Dès 10 ans / Durée 50 min\nJ’ai pas toujours dansé comme ça – BOUBA LANDRILLE TCHOUDA\nCOMPAGNIE MALKA
URL:https://culture.saintmartindheres.fr/agenda/hip-hop-dont-stop-festival-jai-pas-toujours-danse-comme-ca-cie-malka/
LOCATION:Espace culturel René Proby\, rue George Sand\, Saint-Martin-d'Hères\, ISERE\, 38400\, France
CATEGORIES:Danse,Sortir et pratiquer
ATTACH;FMTTYPE=image/jpeg:https://culture.saintmartindheres.fr/culture_sitep/wp-content/uploads/2021/06/130x170_UNE-plaquette-HB_2021-2022.jpg
END:VEVENT
BEGIN:VEVENT
DTSTART;TZID=Europe/Paris:20220129T200000
DTEND;TZID=Europe/Paris:20220129T220000
DTSTAMP:20260424T132818
CREATED:20210702T125921Z
LAST-MODIFIED:20210702T132602Z
UID:22865-1643486400-1643493600@culture.saintmartindheres.fr
SUMMARY:[Hip-Hop Don't Stop Festival] ADDICTION – Junior Bosila et Kali Tarasidou + TREMPLIN JEUNE TALENT
DESCRIPTION:Festival Hip-Hop Don’t Stop > Du 26 janvier au 12 février 2022\nSAM. 29 JANV.  20h à L’heure bleue EN SAVOIR +\n\nADDICTION Junior Bosila – Kalli Tarasidou\n+ TREMPLIN JEUNE TALENT
URL:https://culture.saintmartindheres.fr/agenda/hip-hop-dont-stop-festival-addiction-junior-bosila-et-kali-tarasidou-tremplin-jeune-talent/
LOCATION:L’heure bleue\, 2 Avenue Jean Vilar\, Saint Martin d'Hères\, ISERE\, 38400\, France
CATEGORIES:Danse,Sortir et pratiquer
ATTACH;FMTTYPE=image/jpeg:https://culture.saintmartindheres.fr/culture_sitep/wp-content/uploads/2021/06/130x170_UNE-plaquette-HB_2021-2022.jpg
END:VEVENT
END:VCALENDAR