BEGIN:VCALENDAR
VERSION:2.0
PRODID:-//Portail culturel de Saint-Martin-d&#039;Hères - ECPv6.0.8//NONSGML v1.0//EN
CALSCALE:GREGORIAN
METHOD:PUBLISH
X-ORIGINAL-URL:https://culture.saintmartindheres.fr
X-WR-CALDESC:évènements pour Portail culturel de Saint-Martin-d&#039;Hères
REFRESH-INTERVAL;VALUE=DURATION:PT1H
X-Robots-Tag:noindex
X-PUBLISHED-TTL:PT1H
BEGIN:VTIMEZONE
TZID:Europe/Paris
BEGIN:DAYLIGHT
TZOFFSETFROM:+0100
TZOFFSETTO:+0200
TZNAME:CEST
DTSTART:20260329T010000
END:DAYLIGHT
BEGIN:STANDARD
TZOFFSETFROM:+0200
TZOFFSETTO:+0100
TZNAME:CET
DTSTART:20261025T010000
END:STANDARD
END:VTIMEZONE
BEGIN:VEVENT
DTSTART;VALUE=DATE:20260116
DTEND;VALUE=DATE:20260208
DTSTAMP:20260422T051651
CREATED:20251209T092648Z
LAST-MODIFIED:20260108T084356Z
UID:78448-1768521600-1770508799@culture.saintmartindheres.fr
SUMMARY:🔥HIP-HOP NEVER STOP FESTIVAL🔥10 ANS !
DESCRIPTION:Le Hip-Hop Never Stop Festival fête cette année sa dixième édition. Au fil des années\, le festival a su rassembler artistes\, publics et partenaires autour de valeurs communes : la créativité\, la transmission et la diversité des pratiques. Partenaire historique du festival\, Citadanse accompagne cette aventure depuis ses débuts. Cette collaboration incarne l’esprit de continuité\, de passion et d’exigence artistique qui caractérise le Hip-Hop Never Stop Festival depuis dix ans. Danse\, arts visuels\, performances : la programmation 2026 illustre la richesse et la vitalité d’une culture en constante évolution.  + D’INFO \n➕10è  EDITION PLACE AUX JEUNES TALENTS\nCertains soirs de spectacles\, la représentation sera précédée d’une courte présentation d’artistes amateurs. Partager la scène et passer le flambeau sont des valeurs dans l’ADN du festival depuis toujours. C’est un plaisir de les accueillir pour cette 10e édition.\n \nEn co-direction avec Citadanse. Avec le soutien de la DRAAC\, la région Auvergne – Rhône-Alpes\, le département de l’Isère. En partenariat avec l’Amphi de Pont de Claix\, la MC2 de Grenoble\, L’Odyssée – L’autre rive d’Eybens\, Les Vagabondes – Saison culturelle Seyssins / Seyssinet-Pariset\, La Rampe La Ponatière d’Echirolles\, Le TMG et L’UGA.
URL:https://culture.saintmartindheres.fr/agenda/%f0%9f%94%a5hip-hop-never-stop-festival%f0%9f%94%a510-ans/
LOCATION:L’heure bleue\, 2 Avenue Jean Vilar\, Saint Martin d'Hères\, ISERE\, 38400\, France
CATEGORIES:cultures urbaines,Sortir et pratiquer
ATTACH;FMTTYPE=image/jpeg:https://culture.saintmartindheres.fr/culture_sitep/wp-content/uploads/2025/12/25-1978_CarreWeb1080x1080_HIPHOP-festival_FL.jpg
END:VEVENT
BEGIN:VEVENT
DTSTART;TZID=Europe/Paris:20260201T200000
DTEND;TZID=Europe/Paris:20260201T210000
DTSTAMP:20260422T051651
CREATED:20250709T092406Z
LAST-MODIFIED:20250709T092406Z
UID:73858-1769976000-1769979600@culture.saintmartindheres.fr
SUMMARY:[HIP-HOP NEVER STOP FESTIVAL] BE.GIRL – Cie Uzumaki > L’ilyade – Seyssinet-Pariset
DESCRIPTION:Hip-Hop Never Stop Festival  + D’INFO\nDIM. 1er FEV. 20h  L’Ilyade – Seyssinet-Pariset \nBE.GIRL \nCompagnie Uzumaki\nDanse – Dès 6 ans – Tarifs Les Vagabondes de 11€ à 18€ –  Durée 1h \n \n\nDe retour dans le festival après Mukashi Mukashi présenté lors de la 8e édition\, la compagnie Uzumaki bouscule les codes du breakdance pour mieux célèbrer la puissance et l’audace des Bgirls.
URL:https://culture.saintmartindheres.fr/agenda/hip-hop-never-stop-festival-be-girl-cie-uzumaki-lilyade-seyssinet-pariset/
LOCATION:L’Ilyade\, 32 Rue de la Fauconnière\, Seyssinet-Pariset\, 38170
CATEGORIES:cultures urbaines,Danse,Sortir et pratiquer
ATTACH;FMTTYPE=image/jpeg:https://culture.saintmartindheres.fr/culture_sitep/wp-content/uploads/2025/06/BE.GIRL_CieUzumaki©-Ville-Elancourt_web1.jpg
END:VEVENT
BEGIN:VEVENT
DTSTART;TZID=Europe/Paris:20260203T200000
DTEND;TZID=Europe/Paris:20260203T205500
DTSTAMP:20260422T051651
CREATED:20250709T095744Z
LAST-MODIFIED:20250709T095744Z
UID:73862-1770148800-1770152100@culture.saintmartindheres.fr
SUMMARY:[HIP-HOP NEVER STOP FESTIVAL] Matière(s) première(s) – Cie par Terre > TMG – Grand théâtre – Grenoble
DESCRIPTION:Hip-Hop Never Stop Festival  + D’INFO\nMAR. 3 FEV. 20h  TMG – Grand Théâtre – Grenoble \nMatière(s) première(s) – Compagnie par Terre\nBallet de danses africaines urbaines\nDanse – Dès 10 ans – Tarifs du TMG Grenoble de 5€ à 16€ –  Durée 55 min \n \n\nCoupé-décalé\, mbolé\, ndombolo… un ballet de danses africaines urbaines époustouflant ! \n“Dans Matière(s) première(s)\, […] se déplie la grâce véhémente des danses urbaines africaines\, comme sa dimension politique.” Sceneweb
URL:https://culture.saintmartindheres.fr/agenda/hip-hop-never-stop-festival-matieres-premieres-cie-par-terre-tmg-grand-theatre-grenoble/
LOCATION:Théâtre municipal de Grenoble\, Quai Stéphane Jay\, Grenoble\, 38000
CATEGORIES:cultures urbaines,Danse,Sortir et pratiquer
ATTACH;FMTTYPE=image/jpeg:https://culture.saintmartindheres.fr/culture_sitep/wp-content/uploads/2025/06/MatieresPremieres_Cie-Par-Terre©PatrickBerger_web1.jpg
END:VEVENT
BEGIN:VEVENT
DTSTART;TZID=Europe/Paris:20260203T200000
DTEND;TZID=Europe/Paris:20260203T212500
DTSTAMP:20260422T051651
CREATED:20250709T093559Z
LAST-MODIFIED:20250709T093559Z
UID:73860-1770148800-1770153900@culture.saintmartindheres.fr
SUMMARY:[HIP-HOP NEVER STOP FESTIVAL] Fampitaha\, fampita\, fampitàna – Soa Ratsifandrihana > La Rampe – Échirolles
DESCRIPTION:Hip-Hop Never Stop Festival  + D’INFO\nMAR. 3 FEV. 20h  La Rampe – Echirolles \nFampitaha\, fampita\, fampitàna\nSoa Ratsifandrihana\nDanse-Musique – Dès 13 ans – Tarifs de La Rampe de 11€ à 23€ –  Durée 1h25\n⚠️ Ce spectacle comporte des effets stroboscopiques pouvant heurter les personnes les plus sensibles. \n \n\nSoa Ratsifandrihana met en scène des corps d’aujourd’hui qui portent en eux la mémoire des générations passées et livre une ode à la transmission porteuse d’espoir. \n\n\n\n\n+ La représentation sera précédée de la diffusion du podcast Rouge Cratère de Soa Ratsifandrihana.
URL:https://culture.saintmartindheres.fr/agenda/hip-hop-never-stop-festival-fampitaha-fampita-fampitana-soa-ratsifandrihana-la-rampe-echirolles/
LOCATION:La Rampe\, 15\, avenue du 8 mai 1945\, Échirolles\, 38130
CATEGORIES:cultures urbaines,Danse,Sortir et pratiquer
ATTACH;FMTTYPE=image/jpeg:https://culture.saintmartindheres.fr/culture_sitep/wp-content/uploads/2025/06/Fampitaha©Harilay-Rabenjamina_web4.jpg
END:VEVENT
BEGIN:VEVENT
DTSTART;TZID=Europe/Paris:20260205T200000
DTEND;TZID=Europe/Paris:20260205T210000
DTSTAMP:20260422T051651
CREATED:20250709T112850Z
LAST-MODIFIED:20250709T112850Z
UID:73867-1770321600-1770325200@culture.saintmartindheres.fr
SUMMARY:[HIP-HOP NEVER STOP FESTIVAL] ARTIZANS – La danse des légendes du hip-hop français > L'HEURE BLEUE
DESCRIPTION:Hip-Hop Never Stop Festival  + D’INFO\nJEU. 5 FEV. 20h  L’heure bleue \nArtizans \nLa danse des légendes du hip-hop français\nDanse  – Dès 8 ans – De 5€ à 17€ –  Durée 1h \n \nDans une odyssée rythmée et jubilatoire\, sept figures emblématiques du hip-hop partagent leur héritage et le plaisir infini de danser ensemble. \nMythique !
URL:https://culture.saintmartindheres.fr/agenda/hip-hop-never-stop-festival-artizans-la-danse-des-legendes-du-hip-hop-francais-lheure-bleue/
LOCATION:L’heure bleue\, 2 Avenue Jean Vilar\, Saint Martin d'Hères\, ISERE\, 38400\, France
CATEGORIES:cultures urbaines,Danse,Sortir et pratiquer
ATTACH;FMTTYPE=image/jpeg:https://culture.saintmartindheres.fr/culture_sitep/wp-content/uploads/2025/06/Artizans©Morgan-Eloy_moovance_web1.jpg
END:VEVENT
BEGIN:VEVENT
DTSTART;TZID=Europe/Paris:20260207T200000
DTEND;TZID=Europe/Paris:20260207T220000
DTSTAMP:20260422T051651
CREATED:20250709T113747Z
LAST-MODIFIED:20250709T113902Z
UID:73869-1770494400-1770501600@culture.saintmartindheres.fr
SUMMARY:[HIP-HOP NEVER STOP FESTIVAL] BATTLE – Cie Citadanse > L'HEURE BLEUE
DESCRIPTION:Hip-Hop Never Stop Festival  + D’INFO\nSAM. 7 FEV. 20h  L’heure bleue \nBattle\nCompagnie Citadanse\nDanse  – Dès 6 ans – De 5€ à 17€ –  Durée 2h \n \nPour célébrer les 10 ans du festival\, le battle se transforme avec une nouvelle scénographie et une ambiance encore plus survoltée.
URL:https://culture.saintmartindheres.fr/agenda/hip-hop-never-stop-festival-battle-cie-citadanse-lheure-bleue/
LOCATION:L’heure bleue\, 2 Avenue Jean Vilar\, Saint Martin d'Hères\, ISERE\, 38400\, France
CATEGORIES:cultures urbaines,Danse,Sortir et pratiquer
ATTACH;FMTTYPE=image/jpeg:https://culture.saintmartindheres.fr/culture_sitep/wp-content/uploads/2025/06/Battle©Serge_Masse_web1.jpg
END:VEVENT
END:VCALENDAR