BEGIN:VCALENDAR
VERSION:2.0
PRODID:-//Portail culturel de Saint-Martin-d&#039;Hères - ECPv6.0.8//NONSGML v1.0//EN
CALSCALE:GREGORIAN
METHOD:PUBLISH
X-ORIGINAL-URL:https://culture.saintmartindheres.fr
X-WR-CALDESC:évènements pour Portail culturel de Saint-Martin-d&#039;Hères
REFRESH-INTERVAL;VALUE=DURATION:PT1H
X-Robots-Tag:noindex
X-PUBLISHED-TTL:PT1H
BEGIN:VTIMEZONE
TZID:Europe/Paris
BEGIN:DAYLIGHT
TZOFFSETFROM:+0100
TZOFFSETTO:+0200
TZNAME:CEST
DTSTART:20250330T010000
END:DAYLIGHT
BEGIN:STANDARD
TZOFFSETFROM:+0200
TZOFFSETTO:+0100
TZNAME:CET
DTSTART:20251026T010000
END:STANDARD
END:VTIMEZONE
BEGIN:VEVENT
DTSTART;TZID=Europe/Paris:20250923T180000
DTEND;TZID=Europe/Paris:20250923T200000
DTSTAMP:20260421T045027
CREATED:20250715T125222Z
LAST-MODIFIED:20250715T125222Z
UID:74045-1758650400-1758657600@culture.saintmartindheres.fr
SUMMARY:[Patrimoine en partage] CONFERENCE "La gestion ouvrière des Biscuiteries Brun à la Libération" par Olivier Vallade - Entrée libre
DESCRIPTION:Patrimoine en partage\nMAR. 23 SEPT. 18h + D’INFO\nArchives départementales de l’Isère\, 12 rue Georges Perec \nCONFERENCE par Olivier Vallade\, historien\n“La gestion ouvrière des Biscuiteries Brun à la Libération”
URL:https://culture.saintmartindheres.fr/agenda/patrimoine-en-partage-conference-la-gestion-ouvriere-des-biscuiteries-brun-a-la-liberation-par-olivier-vallade-entree-libre/
LOCATION:ARCHIVES DÉPARTEMENTALES\, 12 rue Georges Pérec\,\, Saint-Martin-d'Hères\, 38400
CATEGORIES:Conférences,Patrimoine,Sortir et pratiquer
ATTACH;FMTTYPE=image/jpeg:https://culture.saintmartindheres.fr/culture_sitep/wp-content/uploads/2025/07/UNE_Sept-Dec_patrimoine-en-partage.jpg
ORGANIZER;CN="Secteur%20Patrimoine":MAILTO:laurence.ramon@saintmartindheres.fr
END:VEVENT
END:VCALENDAR