BEGIN:VCALENDAR
VERSION:2.0
PRODID:-//Portail culturel de Saint-Martin-d&#039;Hères - ECPv6.0.8//NONSGML v1.0//EN
CALSCALE:GREGORIAN
METHOD:PUBLISH
X-ORIGINAL-URL:https://culture.saintmartindheres.fr
X-WR-CALDESC:évènements pour Portail culturel de Saint-Martin-d&#039;Hères
REFRESH-INTERVAL;VALUE=DURATION:PT1H
X-Robots-Tag:noindex
X-PUBLISHED-TTL:PT1H
BEGIN:VTIMEZONE
TZID:Europe/Paris
BEGIN:DAYLIGHT
TZOFFSETFROM:+0100
TZOFFSETTO:+0200
TZNAME:CEST
DTSTART:20250330T010000
END:DAYLIGHT
BEGIN:STANDARD
TZOFFSETFROM:+0200
TZOFFSETTO:+0100
TZNAME:CET
DTSTART:20251026T010000
END:STANDARD
END:VTIMEZONE
BEGIN:VEVENT
DTSTART;TZID=Europe/Paris:20250325T160000
DTEND;TZID=Europe/Paris:20250325T190000
DTSTAMP:20260423T165635
CREATED:20241007T131412Z
LAST-MODIFIED:20241007T140955Z
UID:65037-1742918400-1742929200@culture.saintmartindheres.fr
SUMMARY:[Rencontre Pro 100 % EAC] Forum CULTURES PARTAGEES – Education artistique et culturelle
DESCRIPTION:Contact / Info Direction des Affaires Culturelles 04 76 60 73 32
URL:https://culture.saintmartindheres.fr/agenda/rencontre-pro-100-eac-forum-cultures-partagees-education-artistique-et-culturelle/
LOCATION:Espace culturel René Proby\, rue George Sand\, Saint-Martin-d'Hères\, ISERE\, 38400\, France
CATEGORIES:Conférences,Sortir et pratiquer,Visite guidée
ATTACH;FMTTYPE=image/jpeg:https://culture.saintmartindheres.fr/culture_sitep/wp-content/uploads/2024/01/24-136_logo_Cultures-partagees_CN1.jpg
END:VEVENT
END:VCALENDAR