BEGIN:VCALENDAR
VERSION:2.0
PRODID:-//Portail culturel de Saint-Martin-d&#039;Hères - ECPv6.0.8//NONSGML v1.0//EN
CALSCALE:GREGORIAN
METHOD:PUBLISH
X-ORIGINAL-URL:https://culture.saintmartindheres.fr
X-WR-CALDESC:évènements pour Portail culturel de Saint-Martin-d&#039;Hères
REFRESH-INTERVAL;VALUE=DURATION:PT1H
X-Robots-Tag:noindex
X-PUBLISHED-TTL:PT1H
BEGIN:VTIMEZONE
TZID:Europe/Paris
BEGIN:DAYLIGHT
TZOFFSETFROM:+0100
TZOFFSETTO:+0200
TZNAME:CEST
DTSTART:20240331T010000
END:DAYLIGHT
BEGIN:STANDARD
TZOFFSETFROM:+0200
TZOFFSETTO:+0100
TZNAME:CET
DTSTART:20241027T010000
END:STANDARD
END:VTIMEZONE
BEGIN:VEVENT
DTSTART;TZID=Europe/Paris:20240926T200000
DTEND;TZID=Europe/Paris:20240926T205000
DTSTAMP:20260419T190204
CREATED:20240618T093420Z
LAST-MODIFIED:20240618T093529Z
UID:62046-1727380800-1727383800@culture.saintmartindheres.fr
SUMMARY:[Cirque minimaliste] Mentir lo Mínimo – Compagnie Alta Gama > L’heure bleue
DESCRIPTION:Cirque minimaliste JEU. 26 SEPT.   20h  L’heure bleue\nTarifs de 5€ à 17€ – Dès 8 ans – Durée 50 min\n \nMentir lo Mínimo – Compagnie Alta Gama  \nÀ la frontière entre cirque contemporain\, théâtre et musique\, Mentir lo Mínimo est une création intime\, explorant avec grâce\, émotion et humour notre rapport au corps.\nEN SAVOIR +
URL:https://culture.saintmartindheres.fr/agenda/cirque-minimaliste-mentir-lo-minimo-compagnie-alta-gama-lheure-bleue/
LOCATION:L’heure bleue\, 2 Avenue Jean Vilar\, Saint Martin d'Hères\, ISERE\, 38400\, France
CATEGORIES:Cirque,Sortir et pratiquer
ATTACH;FMTTYPE=image/jpeg:https://culture.saintmartindheres.fr/culture_sitep/wp-content/uploads/2024/05/Mentir-lo-Minimo_CieAltaGama_24-25©Georges-Cier-4.jpg
END:VEVENT
END:VCALENDAR