BEGIN:VCALENDAR
VERSION:2.0
PRODID:-//Portail culturel de Saint-Martin-d&#039;Hères - ECPv6.0.8//NONSGML v1.0//EN
CALSCALE:GREGORIAN
METHOD:PUBLISH
X-ORIGINAL-URL:https://culture.saintmartindheres.fr
X-WR-CALDESC:évènements pour Portail culturel de Saint-Martin-d&#039;Hères
REFRESH-INTERVAL;VALUE=DURATION:PT1H
X-Robots-Tag:noindex
X-PUBLISHED-TTL:PT1H
BEGIN:VTIMEZONE
TZID:Europe/Paris
BEGIN:DAYLIGHT
TZOFFSETFROM:+0100
TZOFFSETTO:+0200
TZNAME:CEST
DTSTART:20220327T010000
END:DAYLIGHT
BEGIN:STANDARD
TZOFFSETFROM:+0200
TZOFFSETTO:+0100
TZNAME:CET
DTSTART:20221030T010000
END:STANDARD
END:VTIMEZONE
BEGIN:VEVENT
DTSTART;TZID=Europe/Paris:20221006T200000
DTEND;TZID=Europe/Paris:20221006T211000
DTSTAMP:20260423T135707
CREATED:20220711T115418Z
LAST-MODIFIED:20220711T115548Z
UID:35299-1665086400-1665090600@culture.saintmartindheres.fr
SUMMARY:[Cirque] EXTREMITÉS – Cirque Inextrêmiste > L’heure bleue
DESCRIPTION:Extrêmités – Cirque Inextrêmiste EN SAVOIR +\nCirque – Dès 6 ans – Durée 1h10 / Billetterie 04 76 14 08 08\nJEU. 6 OCT. 20h L’heure bleue\nSpectacle d’équilibre sur planches et bouteilles de gaz ! Attention danger : trio totalement givré !
URL:https://culture.saintmartindheres.fr/agenda/lancement-de-saison-smh-en-scene-2-spectacles-gratuits-sur-reservation-jardin-de-lheure-bleue-2/
LOCATION:L’heure bleue\, 2 Avenue Jean Vilar\, Saint Martin d'Hères\, ISERE\, 38400\, France
CATEGORIES:Cirque,Sortir et pratiquer
ATTACH;FMTTYPE=image/jpeg:https://culture.saintmartindheres.fr/culture_sitep/wp-content/uploads/2022/06/22-23-extremites_CieInextemiste©Emmanuel-Viverge-2_web.jpg
END:VEVENT
END:VCALENDAR