BEGIN:VCALENDAR
VERSION:2.0
PRODID:-//Portail culturel de Saint-Martin-d&#039;Hères - ECPv6.0.8//NONSGML v1.0//EN
CALSCALE:GREGORIAN
METHOD:PUBLISH
X-WR-CALNAME:Portail culturel de Saint-Martin-d&#039;Hères
X-ORIGINAL-URL:https://culture.saintmartindheres.fr
X-WR-CALDESC:évènements pour Portail culturel de Saint-Martin-d&#039;Hères
REFRESH-INTERVAL;VALUE=DURATION:PT1H
X-Robots-Tag:noindex
X-PUBLISHED-TTL:PT1H
BEGIN:VTIMEZONE
TZID:Europe/Paris
BEGIN:DAYLIGHT
TZOFFSETFROM:+0100
TZOFFSETTO:+0200
TZNAME:CEST
DTSTART:20240331T010000
END:DAYLIGHT
BEGIN:STANDARD
TZOFFSETFROM:+0200
TZOFFSETTO:+0100
TZNAME:CET
DTSTART:20241027T010000
END:STANDARD
END:VTIMEZONE
BEGIN:VEVENT
DTSTART;VALUE=DATE:20241105
DTEND;VALUE=DATE:20241231
DTSTAMP:20260424T225407
CREATED:20241022T150441Z
LAST-MODIFIED:20241022T150624Z
UID:65667-1730764800-1735603199@culture.saintmartindheres.fr
SUMMARY:AU BONHEUR des PETITS 🐺 et des GRANDS 🐺  – Dans les 4 médiathèques et 🐾 ailleurs…
DESCRIPTION:Pour les enfants et leurs familles du 5 au 30 nov. 2024\ndans les 4 MEDIATHEQUES et 🐾ailleurs… EN SAVOIR +\n\nAU BONHEUR des PETITS 🐺 et des GRANDS 🐺\nUn évènement annuel autour du livre jeunesse\, qui s’adresse aux enfants (de 0 à 99 ans) et à leurs familles\, dans les médiathèques et🐾ailleurs… \n🐺 En complicité avec les équipements culturels – Conservatoire Erik Satie\, Mon Ciné\, l’Espace Vallès / Artothèque et Saint-Martin-d’Hères en scène –  les Maisons de quartier –  au service de tous les arts\, cinéma\,  musique\, danse\, théâtre\, peinture\, sculpture\, bande dessinée…
URL:https://culture.saintmartindheres.fr/agenda/au-bonheur-des-petits-%f0%9f%90%ba-et-des-grands-%f0%9f%90%ba-dans-les-4-mediatheques-et-%f0%9f%90%be-ailleurs/
LOCATION:Médiathèque Espace Paul Langevin\, 29 place Karl Marx\, Saint-Martin-d'Hères\, ISERE\, 38400\, France
CATEGORIES:Art-Contemporain,Cinéma,Lecture,Sortir et pratiquer
ATTACH;FMTTYPE=image/jpeg:https://culture.saintmartindheres.fr/culture_sitep/wp-content/uploads/2024/10/24-1640_carre-web_Au-bonheur-des-petits-loups-et-des-grands-loups_RGC.jpg
ORGANIZER;CN="M%C3%A9diath%C3%A8que%20Espace%20Paul%20Langevin":MAILTO:med.langevin@saintmatindheres.fr
END:VEVENT
BEGIN:VEVENT
DTSTART;VALUE=DATE:20241123
DTEND;VALUE=DATE:20241222
DTSTAMP:20260424T225407
CREATED:20241004T144821Z
LAST-MODIFIED:20241004T145207Z
UID:64973-1732320000-1734825599@culture.saintmartindheres.fr
SUMMARY:[EXPO] SÉDUIRE ET HORRIFIER – Marc Alberghina – Entrée libre à L’espace Vallès
DESCRIPTION:Espace Vallès – Galerie d’art contemporain / Artothèque\nTel 04 76 54 41 40 espace.valles@saintmartindheres.fr\nAbonnez vous à la Newsletter\nCanis Lingua – Crédit Marc Alberghina\n23 nov > 21 déc\nSÉDUIRE ET HORRIFIER – Marc Alberghina\n\n Lire + \n+ VERNISSAGE  SAM. 23NOV. 18h\n+ VISITE dédiée aux enseignants MERC. 27 NOV. 12h à 14h\n+ CONFERENCE D’HISTOIRE DE L’ART “Les vanités et l’instinct de mort” par Fabrice Nesta JEU. 19 DEC. 19h\n+ VISITE ACCOMPAGNEE pour les groupes sur simple rdv
URL:https://culture.saintmartindheres.fr/agenda/expo-seduire-et-horrifier-marc-alberghina-entree-libre-a-lespace-valles/
LOCATION:Espace Vallès\, 14 place de la République\, Saint-Martin-d'Hères\, ISERE\, 38400\, France
CATEGORIES:Art-Contemporain,Sortir et pratiquer
ATTACH;FMTTYPE=image/jpeg:https://culture.saintmartindheres.fr/culture_sitep/wp-content/uploads/2024/10/Carton-Recto-Alberghina.jpg
ORGANIZER;CN="Espace%20Vall%C3%A8s":MAILTO:espace.valles@saintmartindheres.fr
END:VEVENT
BEGIN:VEVENT
DTSTART;VALUE=DATE:20241204
DTEND;VALUE=DATE:20241225
DTSTAMP:20260424T225407
CREATED:20241202T153748Z
LAST-MODIFIED:20241202T153748Z
UID:67066-1733270400-1735084799@culture.saintmartindheres.fr
SUMMARY:à l'Affiche de Mon Ciné
DESCRIPTION:Le programme de Mon Ciné du 4 au 24 DEC est en ligne \nFEUILLETER LE PROGRAMME ICI
URL:https://culture.saintmartindheres.fr/agenda/a-laffiche-de-mon-cine-3-2-2-copy-2-2-2-2-2-2-2/
LOCATION:Mon Ciné\, 10 Avenue Ambroise Croizat\, Saint-Martin-d'Hères\, 38400
CATEGORIES:Cinéma,Sortir et pratiquer
ATTACH;FMTTYPE=image/jpeg:https://culture.saintmartindheres.fr/culture_sitep/wp-content/uploads/2024/11/Une_485.jpg
END:VEVENT
BEGIN:VEVENT
DTSTART;TZID=Europe/Paris:20241217T200000
DTEND;TZID=Europe/Paris:20241217T211000
DTSTAMP:20260424T225407
CREATED:20241119T143944Z
LAST-MODIFIED:20241119T145012Z
UID:66557-1734465600-1734469800@culture.saintmartindheres.fr
SUMMARY:[Ciné-Débat🫱🏽‍🫲🏻France Palestine Solidarité] VOYAGE À GAZA de Piero Usberti - à Mon Ciné
DESCRIPTION:Ciné-débat à Mon Ciné\nTel. 04 76 54 64 55\n+ D’INFO\nmar. 17 déc. 20h\nen partenariat avec France Palestine Solidarité\nVOYAGE À GAZA\n2024 – 1h07  – De Piero Usberti\nÀ Gaza\, il faut arriver le soir au printemps\, s’enfermer dans sa chambre et écouter les sons qui entrent par les fenêtres ouvertes… Nous sommes en 2018. J’ai 25 ans et je suis un voyageur étranger. Je rencontre de jeunes palestiniens de mon âge.\n“La parole d’une jeunesse résistante et désireuse de vivre.“  Le Monde
URL:https://culture.saintmartindheres.fr/agenda/cine-debat%f0%9f%ab%b1%f0%9f%8f%bd%f0%9f%ab%b2%f0%9f%8f%bbfrance-palestine-solidarite-voyage-a-gaza-de-piero-usberti-a-mon-cine/
LOCATION:Mon Ciné\, 10 Avenue Ambroise Croizat\, Saint-Martin-d'Hères\, 38400
CATEGORIES:Ciné-débat,Sortir et pratiquer
ATTACH;FMTTYPE=image/jpeg:https://culture.saintmartindheres.fr/culture_sitep/wp-content/uploads/2024/11/affiche-VOYAGE-A-GAZA.jpg
END:VEVENT
BEGIN:VEVENT
DTSTART;TZID=Europe/Paris:20241217T200000
DTEND;TZID=Europe/Paris:20241217T213000
DTSTAMP:20260424T225407
CREATED:20241128T072008Z
LAST-MODIFIED:20241128T073629Z
UID:62407-1734465600-1734471000@culture.saintmartindheres.fr
SUMMARY:❗REPORT DATE 5 FEV. 2025 [Humour] Mahaut + Tahnee > L’heure bleue
DESCRIPTION:Humour\nTarifs de 20€ à 32€ – Dès 16 ans – Durée 1h30\n❗REPORT DATE 5 FEV. 2025 20h L’heure bleue\n⚠️ Si vous aviez acheté un billet pour le 17 décembre 2024\, 2 solutions 👇\n1️⃣ vous pouvez venir le 5 février : conservez précieusement votre billet\, il est automatiquement valable pour cette nouvelle date. 2️⃣ Vous ne pouvez pas venir : vous pouvez demander un remboursement à la billetterie jusqu’au 17 janvier 2025 ✅Un doute ? Une question ? Vous contactez l’équipe de la billetterie  billetterie-smhenscene@saintmartindheres.fr  04 76 14 08 08  aux horaires d’ouverture 👉 INFO PRATIQUE\n \nMahaut + Tahnee\nSi les plateaux de stand-up se suivent et se ressemblent\, en voici un qui se démarque. Engagée\, queer et féministe\, une double soirée pour découvrir cette nouvelle génération d’humoristes sans faux semblants. \nEn co-accueil avec Mix’Arts\, dans le cadre du festival d’humour Tchao Bravo\n\nEN SAVOIR +
URL:https://culture.saintmartindheres.fr/agenda/humour-mahaut-tahnee-lheure-bleue/
LOCATION:L’heure bleue\, 2 Avenue Jean Vilar\, Saint Martin d'Hères\, ISERE\, 38400\, France
CATEGORIES:Humour,Sortir et pratiquer
ATTACH;FMTTYPE=image/jpeg:https://culture.saintmartindheres.fr/culture_sitep/wp-content/uploads/2024/06/Mahaut_Tahnee_4x5_portail.jpg
END:VEVENT
END:VCALENDAR