BEGIN:VCALENDAR
VERSION:2.0
PRODID:-//Portail culturel de Saint-Martin-d&#039;Hères - ECPv6.0.8//NONSGML v1.0//EN
CALSCALE:GREGORIAN
METHOD:PUBLISH
X-ORIGINAL-URL:https://culture.saintmartindheres.fr
X-WR-CALDESC:évènements pour Portail culturel de Saint-Martin-d&#039;Hères
REFRESH-INTERVAL;VALUE=DURATION:PT1H
X-Robots-Tag:noindex
X-PUBLISHED-TTL:PT1H
BEGIN:VTIMEZONE
TZID:Europe/Paris
BEGIN:DAYLIGHT
TZOFFSETFROM:+0100
TZOFFSETTO:+0200
TZNAME:CEST
DTSTART:20210328T010000
END:DAYLIGHT
BEGIN:STANDARD
TZOFFSETFROM:+0200
TZOFFSETTO:+0100
TZNAME:CET
DTSTART:20211031T010000
END:STANDARD
END:VTIMEZONE
BEGIN:VEVENT
DTSTART;TZID=Europe/Paris:20210923T140000
DTEND;TZID=Europe/Paris:20211030T180000
DTSTAMP:20260423T001936
CREATED:20210716T140816Z
LAST-MODIFIED:20210716T140907Z
UID:23091-1632405600-1635616800@culture.saintmartindheres.fr
SUMMARY:[23 sept – 30 oct] À L’ORÉE DES FORÊTS – Nicolas Marciano à l’Espace Vallès
DESCRIPTION:Du 23 septembre au 30 octobre\nà l’espace Vallès\nÀ L’ORÉE DES FORÊTS EN SAVOIR +\nNicolas Marciano  – Peintures et dessins
URL:https://culture.saintmartindheres.fr/agenda/23-sept-30-oct-a-loree-des-forets-nicolas-marciano-a-lespace-valles/
LOCATION:Espace Vallès\, 14 place de la République\, Saint-Martin-d'Hères\, ISERE\, 38400\, France
CATEGORIES:Art-Contemporain,Sortir et pratiquer
ATTACH;FMTTYPE=image/jpeg:https://culture.saintmartindheres.fr/culture_sitep/wp-content/uploads/2021/07/Carton-recto-Marciano-Crédits-Aurélien-Mole-21-cm-X-15-cm.jpg
END:VEVENT
END:VCALENDAR